BEGIN:VCALENDAR
VERSION:2.0
PRODID:-//Arte Que Acontece - ECPv6.15.20//NONSGML v1.0//EN
CALSCALE:GREGORIAN
METHOD:PUBLISH
X-WR-CALNAME:Arte Que Acontece
X-ORIGINAL-URL:https://artequeacontece.com.br
X-WR-CALDESC:Eventos para Arte Que Acontece
REFRESH-INTERVAL;VALUE=DURATION:PT1H
X-Robots-Tag:noindex
X-PUBLISHED-TTL:PT1H
BEGIN:VTIMEZONE
TZID:America/Sao_Paulo
BEGIN:STANDARD
TZOFFSETFROM:-0300
TZOFFSETTO:-0300
TZNAME:-03
DTSTART:20240101T000000
END:STANDARD
END:VTIMEZONE
BEGIN:VEVENT
DTSTART;TZID=America/Sao_Paulo:20250221T100000
DTEND;TZID=America/Sao_Paulo:20250511T220000
DTSTAMP:20260419T122018
CREATED:20250228T204523Z
LAST-MODIFIED:20250228T204857Z
UID:61355-1740132000-1747000800@artequeacontece.com.br
SUMMARY:"Quelque part dans la nuit\, le peuple danse" de Raphaël Barontini no Palais de Tokyo
DESCRIPTION:Raphaël Barontini\, “Cécile Fatiman\, la princesse du royaume du nord” (detalhe)\, 2025. Cortesia do artista e da galeria Mariane Ibrahim © ADAGP\, Paris\, 2025\n\n\n\n\nO artista Raphaël Barontini propõe uma releitura da História\, especialmente africana e caribenha\, por meio de narrativas dinâmicas e em constante transformação\, que combinam técnicas contemporâneas e arquivos do passado. Sua obra questiona a representação figurativa e a tradição da pintura clássica\, apresentando uma seleção de trabalhos recentes ou criados especialmente para sua exposição no Palais de Tokyo. \nA mostra reúne pinturas\, trajes e têxteis dispostos em uma cenografia inspirada na arquitetura do Palais Sans Souci\, no Haiti\, acompanhada por uma obra sonora do poeta e produtor musical Mike Ladd. O conjunto constrói um relato amplo e generoso\, que mescla realidade e ficção\, articulando os diferentes eixos da pesquisa do artista em um exercício de renovação dos imaginários. \nO título da exposição\, “Quelque part dans la nuit\, le peuple danse”\, é inspirado em um trecho da peça A Tragédia do Rei Christophe\, de Aimé Césaire. Publicada em 1963\, a obra examina os desafios enfrentados pelo povo haitiano na construção de uma nova nação após a luta contra a escravidão e a colonização francesa no final do século XVIII. A peça destaca a complexa figura de Henri Christophe\, general da revolução haitiana e rei autoproclamado\, responsável pela construção do Palais Sans Souci. O título da exposição também evoca a força do coletivo e a alegria que sua potência pode gerar em diferentes culturas. \nRaphaël Barontini apresentará a performance inédita Bal Pays no dia 12 de abril de 2025.
URL:https://artequeacontece.com.br/evento/quelque-part-dans-la-nuit-le-peuple-danse-de-raphael-barontini-no-palais-de-tokyo/
LOCATION:Palais de Tokyo\, 13\, avenue du Président Wilson\, Paris\, França
CATEGORIES:Paris
ATTACH;FMTTYPE=image/jpeg:https://artequeacontece.com.br/wp-content/uploads/2025/02/RB-BRODERIE-1920x960-1.jpg
END:VEVENT
END:VCALENDAR