BEGIN:VCALENDAR
VERSION:2.0
PRODID:-//Arte Que Acontece - ECPv6.15.20//NONSGML v1.0//EN
CALSCALE:GREGORIAN
METHOD:PUBLISH
X-WR-CALNAME:Arte Que Acontece
X-ORIGINAL-URL:https://artequeacontece.com.br
X-WR-CALDESC:Eventos para Arte Que Acontece
REFRESH-INTERVAL;VALUE=DURATION:PT1H
X-Robots-Tag:noindex
X-PUBLISHED-TTL:PT1H
BEGIN:VTIMEZONE
TZID:America/Sao_Paulo
BEGIN:STANDARD
TZOFFSETFROM:-0300
TZOFFSETTO:-0300
TZNAME:-03
DTSTART:20240101T000000
END:STANDARD
END:VTIMEZONE
BEGIN:VEVENT
DTSTART;TZID=America/Sao_Paulo:20250617T100000
DTEND;TZID=America/Sao_Paulo:20250928T173000
DTSTAMP:20260422T091442
CREATED:20250620T151541Z
LAST-MODIFIED:20250620T151541Z
UID:63309-1750154400-1759080600@artequeacontece.com.br
SUMMARY:"Queer Lens: A History of Photography" no Getty Center
DESCRIPTION:Ativistas Gays na Primeira Parada do Orgulho Gay\, Christopher Street\, Nova York (detalhe)\, 1970\, 2021\, Arthur Tress. Getty Museum. Doação de David Knaus. © Arthur Tress Archive LLC\nDesde meados do século XIX\, a fotografia tem servido como uma ferramenta poderosa para examinar conceitos de gênero\, sexualidade e autoexpressão. A imediaticidade e a acessibilidade do meio desempenharam um papel transformador na proliferação gradual de imagens homossociais\, homoeróticas e homossexuais. Apesar de períodos de intensa homofobia\, quando muitas fotografias que retratavam a vida queer foram suprimidas ou destruídas\, esta exposição reúne uma variedade de evidências para explorar o papel profundo da fotografia na construção e afirmação do vibrante tecido da comunidade LGBTQ+. \nNa exposição Queer Lens\, reconhecemos abertamente\, em nossos textos de parede\, a história complexa da palavra “queer” e falamos sobre sua ressignificação pela comunidade LGBTQ+. Nesse contexto\, ela não é pejorativa\, mas uma palavra de inclusão e empoderamento. Além disso\, “queer” é um termo neutro em relação ao gênero e abrange pessoas que ficam de fora dos identificadores LGBT (como intersexo). \nUsamos essa palavra com intencionalidade\, consciência e respeito. \nEsta exposição é apresentada em inglês e espanhol. \n 
URL:https://artequeacontece.com.br/evento/queer-lens-a-history-of-photography-no-getty-center/
LOCATION:Getty Center\, 1200 Getty Center Dr\, Los Angeles\, Califórnia\, Estados Unidos
CATEGORIES:Los Angeles
ATTACH;FMTTYPE=image/jpeg:https://artequeacontece.com.br/wp-content/uploads/2025/06/0e865ee1-53fa-4098-b7d3-6f7db7019f50_1600x900-1.jpg
END:VEVENT
END:VCALENDAR