BEGIN:VCALENDAR
VERSION:2.0
PRODID:-//Arte Que Acontece - ECPv6.15.20//NONSGML v1.0//EN
CALSCALE:GREGORIAN
METHOD:PUBLISH
X-WR-CALNAME:Arte Que Acontece
X-ORIGINAL-URL:https://artequeacontece.com.br
X-WR-CALDESC:Eventos para Arte Que Acontece
REFRESH-INTERVAL;VALUE=DURATION:PT1H
X-Robots-Tag:noindex
X-PUBLISHED-TTL:PT1H
BEGIN:VTIMEZONE
TZID:America/Sao_Paulo
BEGIN:STANDARD
TZOFFSETFROM:-0300
TZOFFSETTO:-0300
TZNAME:-03
DTSTART:20220101T000000
END:STANDARD
END:VTIMEZONE
BEGIN:VEVENT
DTSTART;TZID=America/Sao_Paulo:20230817T110000
DTEND;TZID=America/Sao_Paulo:20230924T190000
DTSTAMP:20260419T130541
CREATED:20230818T151845Z
LAST-MODIFIED:20230826T002629Z
UID:43303-1692270000-1695582000@artequeacontece.com.br
SUMMARY:"Quando Falar Não Basta" de Kuêio na A7MA Galeria
DESCRIPTION:Kuêio é artista visual\, ilustrador e grafiteiro da cidade de São Paulo. Graduado em Artes Plásticas e Artes Visuais pela Universidade Federal de Uberlândia MG\, Kuêio participa do cenário da arte urbana desde 1999. O artista representa\, com seu estilo Cartoon\, cenas cômicas\, personalidades do universo urbano que se encontram\, de alguma maneira\, durante a concepção do graffiti e da pixação. Seja representando a própria ação de “Pixar” e seus bastidores ou registrando “instantes urbanos” captados sob o olhar do artista. Kuêio também acrescenta ao conceito de suas obras elementos e narrativas da comunidade LGBTQI\, do qual faz parte como transgênero e homossexual. O personagem Kuêio (coelho) é a identidade do próprio artista\, que é homem transgênero\, de origem periférica e se auto representa como criança de 10 a 12 anos\, mostrando a energia e alegria dessa fase etária\, ao mesmo tempo que nesta fase os corpos das crianças ainda ainda não produzem hormônios sexuais e/ou andrógenos que influencia nos dismorfismos corporais. Crianças têm corpos iguais\, desenvolvimento igual e quem denota gênero social à elas são as outras pessoas\, tanto de sua família quanto da sociedade em geral. Da mesma forma assim são os kuêios: seres sem gênero\, sem influência hormonal que se vestem de acordo com o tema proposto e quem (quiser) definir seus gêneros são os próprios espectadores. O personagem identitário do artista\, assim como ele\, é grafiteiro e entusiasta da pixação paulistana. Então quase sempre aparecerá apresentando narrativas e cenas do universo do graffiti e da arte urbana periférica.
URL:https://artequeacontece.com.br/evento/quando-falar-nao-basta-de-kueio-na-a7ma-galeria/
LOCATION:A7MA Galeria\, R. Medeiros de Albuquerque\, 250 - Jardim das Bandeiras\, São Paulo\, SP\, Brasil
CATEGORIES:São Paulo
ATTACH;FMTTYPE=image/jpeg:https://artequeacontece.com.br/wp-content/uploads/2023/08/te-vejo-por-dentro-logo-te-conheco-obra-de-kueio-1692115363370_v2_4x3-1-1.jpg
END:VEVENT
END:VCALENDAR