BEGIN:VCALENDAR
VERSION:2.0
PRODID:-//Arte Que Acontece - ECPv6.15.20//NONSGML v1.0//EN
CALSCALE:GREGORIAN
METHOD:PUBLISH
X-WR-CALNAME:Arte Que Acontece
X-ORIGINAL-URL:https://artequeacontece.com.br
X-WR-CALDESC:Eventos para Arte Que Acontece
REFRESH-INTERVAL;VALUE=DURATION:PT1H
X-Robots-Tag:noindex
X-PUBLISHED-TTL:PT1H
BEGIN:VTIMEZONE
TZID:America/Sao_Paulo
BEGIN:STANDARD
TZOFFSETFROM:-0300
TZOFFSETTO:-0300
TZNAME:-03
DTSTART:20220101T000000
END:STANDARD
END:VTIMEZONE
BEGIN:VEVENT
DTSTART;TZID=America/Sao_Paulo:20230803T110000
DTEND;TZID=America/Sao_Paulo:20230902T190000
DTSTAMP:20260419T085855
CREATED:20230803T185705Z
LAST-MODIFIED:20230803T190726Z
UID:42989-1691060400-1693681200@artequeacontece.com.br
SUMMARY:"Pulso Polar" de Bruno Borne na Zipper Galeria
DESCRIPTION:A Zipper Galeria apresenta a exposição Zip’Up Pulso Polar do artista Bruno Borne. Esta exposição apresenta uma fusão cativante de instalações de vídeo e obras impressas\, explorando a interação entre luz e escuridão\, processos digitais e formas geométricas. Pulso Polar apresenta uma dicotomia entre o claro e o escuro. No lado escuro\, uma instalação de vídeo instigante projeta-se na parede do Zip’Up\, que fica no segundo andar da galeria\, imergindo os espectadores em uma narrativa visual envolvente. No lado claro\, a exposição apresenta uma série de obras feitas por meio da computação gráfica\, impressas digitalmente sobre papel fotográfico. A formação de Borne em arquitetura e sua paixão pela computação gráfica influenciaram sua abordagem artística\, resultando em obras criadas digitalmente usando software de renderização\, modelagem 3D e técnicas de animação\, cada uma resultando em formas geométricas únicas. \n\n\n\nUma das peças de destaque na exposição é uma obra que apresenta uma representação do símbolo do infinito e um elemento simbólico\, também incorporando animações que envolvem harmoniosamente as paredes da galeria\, criando uma experiência dinâmica e cativante para os visitantes. Além disso\, a exposição inclui uma instalação que combina elementos de duas obras importantes do artista. O conceito é inspirado em uma obra com espelho no fundo\, que costumava iluminar salas com seu jogo de luz. Esse conceito é mesclado com outro trabalho que Borne criou para o Piano Alto do Mercosul\, que apresentava uma representação do céu e um ciclo de dia e noite. A ideia é criar uma mistura desses dois elementos\, resultando em uma instalação intrigante.
URL:https://artequeacontece.com.br/evento/pulso-polar-de-bruno-borne-na-zipper-galeria/
LOCATION:Zipper Galeria\, R. Estados Unidos\, 1494 - Jardim América\, São Paulo\, SP\, Brasil
CATEGORIES:São Paulo
ATTACH;FMTTYPE=image/png:https://artequeacontece.com.br/wp-content/uploads/2023/08/bruno-borne-1-1.png
END:VEVENT
END:VCALENDAR