BEGIN:VCALENDAR
VERSION:2.0
PRODID:-//Arte Que Acontece - ECPv6.15.20//NONSGML v1.0//EN
CALSCALE:GREGORIAN
METHOD:PUBLISH
X-WR-CALNAME:Arte Que Acontece
X-ORIGINAL-URL:https://artequeacontece.com.br
X-WR-CALDESC:Eventos para Arte Que Acontece
REFRESH-INTERVAL;VALUE=DURATION:PT1H
X-Robots-Tag:noindex
X-PUBLISHED-TTL:PT1H
BEGIN:VTIMEZONE
TZID:America/Sao_Paulo
BEGIN:STANDARD
TZOFFSETFROM:-0300
TZOFFSETTO:-0300
TZNAME:-03
DTSTART:20220101T000000
END:STANDARD
END:VTIMEZONE
BEGIN:VEVENT
DTSTART;TZID=America/Sao_Paulo:20230701T103000
DTEND;TZID=America/Sao_Paulo:20231009T173000
DTSTAMP:20260419T101126
CREATED:20230714T150302Z
LAST-MODIFIED:20230714T150306Z
UID:42416-1688207400-1696872600@artequeacontece.com.br
SUMMARY:"Projects: Dineo Seshee Bopape" no MoMA
DESCRIPTION:O que nossos oceanos lembram? A movimentação dos continentes? Cardumes migratórios de peixes e mamíferos? O movimento dos navios transportando pessoas escravizadas pelo Atlântico? O sopro daqueles que buscavam liberdade? Essas perguntas impulsionam a instalação de som e vídeo de múltiplos canais de Dineo Seshee Bopape intitulada Lerato laka le a phela le a phela le a phela/My love is alive\, is alive\, is alive (2022). Radicada na África do Sul\, Bopape combina vídeo\, som e materiais naturais em suas obras\, considerando como as histórias sociais\, políticas e espirituais da diáspora africana habitam o mundo físico ao nosso redor. Lerato laka le a phela presta homenagem aos 12 milhões de pessoas escravizadas que cruzaram o Atlântico – aqueles que sobreviveram e aqueles que fugiram para as águas em busca de refúgio. Através de três telas\, a artista é vista submergindo as mãos e colocando frutas\, flores e várias oferendas no Oceano Pacífico e no Mar do Caribe\, próximo à costa da Jamaica. Elementos de áudio são incorporados por meio da percussão ritmada da água por Bopape e de sua cantoria em sua língua materna\, Sepedi. A obra foi inspirada nas costas marcadas por chicotadas de um homem afro-americano conhecido apenas como Peter (anteriormente erroneamente chamado de Gordon)\, que escapou da escravidão americana no século XVIII e cuja história de resiliência espiritual continua sendo contada por meio de uma fotografia amplamente divulgada. Projetados em uma superfície de calcário\, os vídeos estão cercados por um anel de pedras. Uma lavagem de solo foi aplicada nas paredes da galeria. Ao unir solo\, rocha\, argila e água\, a obra permite que múltiplas linhas do tempo – geológica\, histórica e pessoal – convirjam no presente. Para Bopape\, essa conexão com o mundo físico é uma investigação da memória coletiva: “É um ato de rebeldia espiritual e política lembrar – não esquecer o que se está sendo solicitado a esquecer”.
URL:https://artequeacontece.com.br/evento/projects-dineo-seshee-bopape-no-moma/
LOCATION:MoMA\, 11 W 53rd St Manhattan\, Nova York\, Nova York\, Estados Unidos
CATEGORIES:Nova York
ATTACH;FMTTYPE=image/jpeg:https://artequeacontece.com.br/wp-content/uploads/2023/07/DSP_underwater_1-1-1.jpg
END:VEVENT
END:VCALENDAR