BEGIN:VCALENDAR
VERSION:2.0
PRODID:-//Arte Que Acontece - ECPv6.15.20//NONSGML v1.0//EN
CALSCALE:GREGORIAN
METHOD:PUBLISH
X-WR-CALNAME:Arte Que Acontece
X-ORIGINAL-URL:https://artequeacontece.com.br
X-WR-CALDESC:Eventos para Arte Que Acontece
REFRESH-INTERVAL;VALUE=DURATION:PT1H
X-Robots-Tag:noindex
X-PUBLISHED-TTL:PT1H
BEGIN:VTIMEZONE
TZID:America/Sao_Paulo
BEGIN:STANDARD
TZOFFSETFROM:-0300
TZOFFSETTO:-0300
TZNAME:-03
DTSTART:20220101T000000
END:STANDARD
END:VTIMEZONE
BEGIN:VEVENT
DTSTART;TZID=America/Sao_Paulo:20231007T100000
DTEND;TZID=America/Sao_Paulo:20231220T190000
DTSTAMP:20260419T103221
CREATED:20231006T204503Z
LAST-MODIFIED:20231006T204512Z
UID:44169-1696672800-1703098800@artequeacontece.com.br
SUMMARY:"Primavera Silenciosa" na Luciana Brito Galeria
DESCRIPTION:A exposição Primavera Silenciosa\, com curadoria de Alexia Tala\, apresenta uma diversidade de linguagens artísticas\, incluindo pinturas\, esculturas\, instalações site-specific\, fotografia e tapeçaria\, criadas por artistas do Brasil\, Guatemala\, Honduras\, México e Panamá. A mostra também inclui projeção de filmes e discussões sobre questões relacionadas à ecologia e à produção artística em resposta a esse tema. \n\n\n\nA curadora\, Alexia Tala\, baseou-se em oito anos de pesquisa na Bienal de Arte Paiz\, na Guatemala\, para criar essa exposição\, explorando as narrativas das artes visuais latino-americanas e as conexões com as culturas indígenas. A exposição celebra a diversidade cultural desses povos e promove uma relação consciente com a natureza\, incentivando uma visão mais saudável e sustentável do mundo. \n\n\n\nO título da exposição faz referência ao livro Primavera Silenciosa de Rachel Carson\, publicado em 1962\, que alertou sobre a poluição ambiental e a possibilidade de um futuro sem o canto dos pássaros. No entanto\, a exposição contrasta essa visão com as práticas ancestrais e visões de mundo das culturas latino-americanas que já tinham uma abordagem mais harmoniosa com o ecossistema. \n\n\n\nAs obras expostas abordam uma variedade de temas\, desde representações simbólicas da natureza até questões identitárias e culturais indígenas. Além disso\, a exposição questiona a apropriação cultural e destaca a importância de preservar as identidades culturais das comunidades indígenas. Primavera Silenciosa oferece uma oportunidade de explorar a interseção entre arte contemporânea\, ecologia e culturas indígenas latino-americanas\, promovendo a sensibilização e reflexão sobre a importância de uma coexistência mais harmoniosa com o ambiente natural.
URL:https://artequeacontece.com.br/evento/primavera-silenciosa-na-luciana-brito-galeria/
LOCATION:Luciana Brito Galeria\, Av. Nove de Julho\, 5162 - Jardim Europa\, São Paulo\, SP\, Brasil
CATEGORIES:São Paulo
ATTACH;FMTTYPE=image/jpeg:https://artequeacontece.com.br/wp-content/uploads/2023/10/Benvenuto-Chavajay-Creacion-de-la-humanidad-de-Popol-Wuj-Palo-2-1.jpg
END:VEVENT
END:VCALENDAR