BEGIN:VCALENDAR
VERSION:2.0
PRODID:-//Arte Que Acontece - ECPv6.15.20//NONSGML v1.0//EN
CALSCALE:GREGORIAN
METHOD:PUBLISH
X-WR-CALNAME:Arte Que Acontece
X-ORIGINAL-URL:https://artequeacontece.com.br
X-WR-CALDESC:Eventos para Arte Que Acontece
REFRESH-INTERVAL;VALUE=DURATION:PT1H
X-Robots-Tag:noindex
X-PUBLISHED-TTL:PT1H
BEGIN:VTIMEZONE
TZID:America/Sao_Paulo
BEGIN:STANDARD
TZOFFSETFROM:-0300
TZOFFSETTO:-0300
TZNAME:-03
DTSTART:20220101T000000
END:STANDARD
END:VTIMEZONE
BEGIN:VEVENT
DTSTART;TZID=America/Sao_Paulo:20231118T100000
DTEND;TZID=America/Sao_Paulo:20240330T180000
DTSTAMP:20260422T061714
CREATED:20240201T135310Z
LAST-MODIFIED:20240201T135316Z
UID:45973-1700301600-1711821600@artequeacontece.com.br
SUMMARY:"Prickling Goosebumps & a Humming Horizon" de Pipilotti Rist na Luhring Augustine
DESCRIPTION:Inaugurada em novembro de 2023\, a artista suíça autodescrita como “selvagem e amigável” Pipilotti Rist apresenta uma seleção de novas e recentes obras esculturais e projeções em Prickling Goosebumps & a Humming Horizon\, uma grande exposição em duas partes aberta em Chelsea. A exposição\, que ocorre simultaneamente na localização da Hauser & Wirth e na Luhring Augustine\, foi concebida pela artista como uma experiência multissensorial para os visitantes. Nessas apresentações complementares\, Rist explora o interior e o exterior — espaços físicos e psicológicos internos e externos — com a Luhring Augustine reimaginada como um “quintal” compartilhado e expansivo e a Hauser & Wirth transformada em uma “sala de estar coletiva” caprichosa.
URL:https://artequeacontece.com.br/evento/prickling-goosebumps-a-humming-horizon-de-pipilotti-rist-na-luhring-augustine/
LOCATION:Luhring Augustine Chelsea\, 531 West 24th Street\, Nova York\, Nova York\, Estados Unidos
CATEGORIES:Nova York
ATTACH;FMTTYPE=image/jpeg:https://artequeacontece.com.br/wp-content/uploads/2024/02/Pipilotti-Rist-Prickling-Goosebumps-Humming-Horizon-Installation-view.jpeg
END:VEVENT
END:VCALENDAR