BEGIN:VCALENDAR
VERSION:2.0
PRODID:-//Arte Que Acontece - ECPv6.15.20//NONSGML v1.0//EN
CALSCALE:GREGORIAN
METHOD:PUBLISH
X-WR-CALNAME:Arte Que Acontece
X-ORIGINAL-URL:https://artequeacontece.com.br
X-WR-CALDESC:Eventos para Arte Que Acontece
REFRESH-INTERVAL;VALUE=DURATION:PT1H
X-Robots-Tag:noindex
X-PUBLISHED-TTL:PT1H
BEGIN:VTIMEZONE
TZID:America/Sao_Paulo
BEGIN:STANDARD
TZOFFSETFROM:-0300
TZOFFSETTO:-0300
TZNAME:-03
DTSTART:20230101T000000
END:STANDARD
END:VTIMEZONE
BEGIN:VEVENT
DTSTART;TZID=America/Sao_Paulo:20240405T100000
DTEND;TZID=America/Sao_Paulo:20240825T180000
DTSTAMP:20260422T071152
CREATED:20240423T141156Z
LAST-MODIFIED:20240423T141159Z
UID:48317-1712311200-1724608800@artequeacontece.com.br
SUMMARY:"Présences arabes" no Musée d'Art Moderne de Paris
DESCRIPTION:Hamed Abdalla\, Conscience du Sol (detalhe)\, 1956\n\n\n\nO Museu de Arte Moderna de Paris propõe redescobrir a diversidade das modernidades árabes no século XX e renovar o olhar histórico sobre cenas artísticas ainda pouco conhecidas na Europa. Através de uma seleção de mais de 200 obras\, a maioria nunca antes exposta na França\, a exposição Présences arabes – Art moderne et décolonisation – Paris 1908-1988 (Presenças árabes – Arte moderna e descolonização – Paris 1908-1988) destaca a relação dos artistas árabes com Paris ao longo do século XX. \n\n\n\nA exposição explora uma outra história da Arte moderna\, iluminada por numerosos arquivos sonoros e audiovisuais históricos presentes no percurso. Estruturada de forma cronológica\, inicia-se em 1908\, ano da chegada do poeta e artista libanês Khalil Gibran a Paris e da abertura da Escola de Belas Artes do Cairo. Conclui-se em 1988\, com a primeira exposição dedicada a artistas contemporâneos árabes no Instituto do Mundo Árabe (inaugurado alguns meses antes) em Paris e com a exposição Singuliers : bruts ou naïfs\, com\, entre outros\, a artista marroquina Chaïbia Tallal e o artista tunisiano Jaber Al-Mahjoub\, apresentada no museu infantil do Museu de Arte Moderna de Paris. \n\n\n\nSegundo Silvia Naef\, historiadora de arte e uma das autoras do catálogo da exposição Présences Arabes no MAM: “Como fazer uma arte moderna e árabe? Um verdadeiro projeto estético é estabelecido ao longo do século XX: pensado tanto em ruptura com a arte acadêmica\, ecoando as vanguardas ocidentais\, no contexto de uma identidade nacional própria\, sem voltar\, no entanto\, a uma arte islâmica.” \n\n\n\nA exposição destaca mais de 130 artistas cujas obras constituem uma contribuição essencial para as vanguardas árabes e a história da arte moderna do século XX. \n\n\n\nTambém destaca o papel essencial desempenhado por Paris. Qualificada como “capital do terceiro mundo” pelo historiador Michael Goebel\, a cidade é considerada desde os anos 1920 como um viveiro de redes anticoloniais e o centro das novas modernidades cosmopolitas. \n\n\n\nO percurso da exposição é construído em torno de diferentes trajetórias de artistas que estudaram nas escolas de belas artes de seus países antes de vir estudar e se instalar em Paris para continuar sua formação. Ao longo do século XX\, Paris é o lugar de acesso à modernidade\, da crítica ao colonialismo e o centro de numerosos encontros. O Museu de Arte Moderna teve ele próprio um papel importante no pós-guerra através de suas exposições (Salão das Realidades Novas\, Salão da Jovem Pintura\, Bienal dos Jovens Artistas de Paris…) e das aquisições iniciadas a partir dos anos 1960.
URL:https://artequeacontece.com.br/evento/presences-arabes-no-musee-dart-moderne-de-paris/
LOCATION:Musée d’Art Moderne de Paris\, 11 Av. du Président Wilson Paris\, Paris\, Paris\, França
CATEGORIES:Paris
ATTACH;FMTTYPE=image/jpeg:https://artequeacontece.com.br/wp-content/uploads/2024/04/exposition-presences-arabes-musee-dart-moderne-de-paris.jpg
END:VEVENT
END:VCALENDAR