BEGIN:VCALENDAR
VERSION:2.0
PRODID:-//Arte Que Acontece - ECPv6.15.20//NONSGML v1.0//EN
CALSCALE:GREGORIAN
METHOD:PUBLISH
X-WR-CALNAME:Arte Que Acontece
X-ORIGINAL-URL:https://artequeacontece.com.br
X-WR-CALDESC:Eventos para Arte Que Acontece
REFRESH-INTERVAL;VALUE=DURATION:PT1H
X-Robots-Tag:noindex
X-PUBLISHED-TTL:PT1H
BEGIN:VTIMEZONE
TZID:America/Sao_Paulo
BEGIN:STANDARD
TZOFFSETFROM:-0300
TZOFFSETTO:-0300
TZNAME:-03
DTSTART:20240101T000000
END:STANDARD
END:VTIMEZONE
BEGIN:VEVENT
DTSTART;TZID=America/Sao_Paulo:20250621T140000
DTEND;TZID=America/Sao_Paulo:20250628T180000
DTSTAMP:20260419T122721
CREATED:20250621T144839Z
LAST-MODIFIED:20250621T144839Z
UID:63331-1750514400-1751133600@artequeacontece.com.br
SUMMARY:"Praia de artista" no Ateliê397
DESCRIPTION:Tara Perstephonie\, “Reuniões Secretas\, em danças e invocações n.2”\, 2025. Foto: David Santana\nEntre os dias 21 e 28 de junho\, o Ateliê 397 recebe a exposição Praia de artista\, mostra coletiva que reúne os trabalhos desenvolvidos por participantes do módulo presencial do Clínica Geral —programa de acompanhamento crítico voltado para artistas\, curadores e pesquisadores— sob orientação de Bruna Fernanda\, Lucas Goulart e Thais Rivitti. \nA exposição apresenta obras de Aline Paes\, Anderson Oliveira\, Cau Silva\, David Santana\, Gsé Silva\, Joana de Fátima\, Larissa Anne\, Leandro Celestino\, Natália Xavier\, Nina Simão\, Taís Koshino e Tara Perstephonie. Os trabalhos foram criados ao longo do primeiro semestre de 2025 a partir de reflexões coletivas sobre o paradoxo que atravessa a prática artística contemporânea: qual é o lugar do artista no sistema da arte? \nO título da exposição faz referência à canção da banda NOPORN —e\, ao mesmo tempo\, evoca a ideia de “praia” como um espaço simbólico de encontro\, convívio\, experimentação e invenção. A proposta nasceu do desejo do grupo de pensar o espaço artístico como zona de respiro\, trânsito e troca\, em contraste com as dinâmicas de circulação e pertencimento do circuito oficial da arte. \nPraia de artista ocupa o espaço expositivo do Ateliê 397 e seus arredores com produções recentes em performance\, vídeo\, objeto\, pintura\, texto e instalação. As obras abordam temas como desigualdade social\, construções de gênero\, religiosidade\, cultura pop\, travestilidade e os modos possíveis de descanso e resistência em meio à lógica capitalista. Intimidade\, ficção e autobiografia atravessam os trabalhos\, que propõem fabulações críticas sobre corpo\, imagem\, cidade e cotidiano. \nA mostra conta ainda com a participação especial de Lady Letal\, que apresenta a nova instalação ADORO DJ’S – Série Viva las DJ’s\, dialogando diretamente com o universo sonoro que inspira o título da exposição. \nDepois\, de 5 a 12 de julho\, o grupo que fez o módulo online do Clínica Geral exibe A4\, sob a orientação de Érica Burini e Kauê Garcia. Os artistas foram convidados a experimentar com a comum folha sulfite de modo a produzir uma publicação que será expandida para a exposição\, tendo como uma das inspirações o Xerox Book (1968)\, notável exemplar de livro como mostra de arte que reuniu artistas conceituais em torno da proposta. Abiniel João Nascimento\, All Ice\, Artista proletária\, Guto Mattos\, Corina Ishikura\, Crislaine Tavares\, Danilo Nobrega\, Gilzo Junior\, Gi Monteiro\, Inara Vidal\, Kal Yoga\, Luiza Sigulem\, Murillo Marques\, Vale7e\, Noah Mancini\, Sofia Ramos\, Vanessa CTReis e Vix Palhano compõem a coletiva. \nAs exposições são resultado do Clínica Geral\, um acompanhamento desenvolvido ao longo de quatro meses\, em encontros promovidos pelo Ateliê397 e realizados na galeria Vermelho\, em São Paulo\, que se consolida como espaço aberto ao diálogo\, à escuta e à experimentação artística. As inscrições para o próximo ciclo do programa abrem no dia 26 de junho e se estendem até 28 de julho.
URL:https://artequeacontece.com.br/evento/praia-de-artista-no-atelie397/
LOCATION:Ateliê397\, Travessa Dona Paula\, 119A – Higienópolis\, São Paulo\, SP\, Brazil
CATEGORIES:São Paulo
ATTACH;FMTTYPE=image/jpeg:https://artequeacontece.com.br/wp-content/uploads/2025/06/Tara-Perstephonie_Reunioes-Secretas-em-dancas-e-invocacoes-n.2-2025_Lapis-sobre-papel_21-x-297-cm_Foto-David-Santana_-.jpg
END:VEVENT
END:VCALENDAR