BEGIN:VCALENDAR
VERSION:2.0
PRODID:-//Arte Que Acontece - ECPv6.15.20//NONSGML v1.0//EN
CALSCALE:GREGORIAN
METHOD:PUBLISH
X-WR-CALNAME:Arte Que Acontece
X-ORIGINAL-URL:https://artequeacontece.com.br
X-WR-CALDESC:Eventos para Arte Que Acontece
REFRESH-INTERVAL;VALUE=DURATION:PT1H
X-Robots-Tag:noindex
X-PUBLISHED-TTL:PT1H
BEGIN:VTIMEZONE
TZID:America/Sao_Paulo
BEGIN:STANDARD
TZOFFSETFROM:-0300
TZOFFSETTO:-0300
TZNAME:-03
DTSTART:20220101T000000
END:STANDARD
END:VTIMEZONE
BEGIN:VEVENT
DTSTART;TZID=America/Sao_Paulo:20231111T100000
DTEND;TZID=America/Sao_Paulo:20240303T170000
DTSTAMP:20260419T085855
CREATED:20231110T144803Z
LAST-MODIFIED:20231110T144807Z
UID:44795-1699696800-1709485200@artequeacontece.com.br
SUMMARY:"Povoada" de Diego Mouro no Museu Afro Brasil Emanoel Araujo
DESCRIPTION:A exposição Povoada de Diego Mouro\, com curadoria de Claudinei Roberto da Silva\, no Museu Afro Brasil Emanoel Araujo\, destaca os fazeres cotidianos e tradições do povo negro. A mostra\, parte da Programação do Mês da Consciência Negra\, apresenta pinturas a óleo inéditas que retratam cenas e personagens ligados à comunidade\, como pescadores\, lavadeiras\, festas típicas e artesãs tradicionais. \n\n\n\nDiego Mouro baseia suas obras em uma pesquisa dedicada aos resquícios da formação cultural negra no Brasil\, buscando representar a ancestralidade no cotidiano de maneira não convencional. Os temas incluem a Congada de São Benedito\, a tradição das oleiras do Candeal em Minas Gerais\, e a influência da vivência pessoal do artista\, cujo avô foi pescador artesanal. \n\n\n\nA exposição também destaca retratos de personagens negras\, geralmente excluídas de registros pictóricos\, e aborda as cavalgadas\, romarias realizadas a cavalo pelo interior do país. Diego Mouro referencia a pintura acadêmica\, inserindo-se em uma tradição de pintores negros brasileiros.
URL:https://artequeacontece.com.br/evento/povoada-de-diego-mouro-no-museu-afro-brasil-emanoel-araujo/
LOCATION:Museu Afro Brasil Emanoel Araújo\, Parque Ibirapuera\, Portão 10 - Av\, Pedro Álvares Cabral\, s/n – Vila Mariana\, São Paulo\, SP\, Brasil
CATEGORIES:São Paulo
ATTACH;FMTTYPE=image/jpeg:https://artequeacontece.com.br/wp-content/uploads/2023/11/DM_Povoada_Ph_FlavioFreire_HR_0-1-1-1.jpg
END:VEVENT
END:VCALENDAR