BEGIN:VCALENDAR
VERSION:2.0
PRODID:-//Arte Que Acontece - ECPv6.15.20//NONSGML v1.0//EN
CALSCALE:GREGORIAN
METHOD:PUBLISH
X-WR-CALNAME:Arte Que Acontece
X-ORIGINAL-URL:https://artequeacontece.com.br
X-WR-CALDESC:Eventos para Arte Que Acontece
REFRESH-INTERVAL;VALUE=DURATION:PT1H
X-Robots-Tag:noindex
X-PUBLISHED-TTL:PT1H
BEGIN:VTIMEZONE
TZID:America/Sao_Paulo
BEGIN:STANDARD
TZOFFSETFROM:-0300
TZOFFSETTO:-0300
TZNAME:-03
DTSTART:20240101T000000
END:STANDARD
END:VTIMEZONE
BEGIN:VEVENT
DTSTART;TZID=America/Sao_Paulo:20250125T100000
DTEND;TZID=America/Sao_Paulo:20260104T170000
DTSTAMP:20260419T122820
CREATED:20250311T190918Z
LAST-MODIFIED:20250311T190918Z
UID:61510-1737799200-1767546000@artequeacontece.com.br
SUMMARY:"Portraits from the ICA Collection" no ICA Boston
DESCRIPTION:Didier William\, “Gwo Tet”\, 2021. Cortesia do artista e Altman Siegel\, São Francisco ® Didier William\n\n\n\n\nEsta exposição apresenta o vasto acervo de retratos em diferentes mídias dentro da Coleção do ICA\, explorando como artistas criam imagens de si mesmos e de outros para expressar emoções\, questões políticas e a potência da representação. O retrato oferece tanto aos artistas quanto aos retratados uma forma de comunicar experiências pessoais e vividas\, ao mesmo tempo em que convida o público a refletir sobre si mesmo. \nDiferente dos retratos históricos\, frequentemente voltados à celebração da aristocracia e das elites\, a retratística contemporânea abrange um espectro mais amplo e inclusivo de pessoas e identidades. A seleção de quase trinta obras reflete a riqueza das narrativas atuais\, ressaltando a diversidade das experiências individuais e os vínculos que nos conectam enquanto sociedade.
URL:https://artequeacontece.com.br/evento/portraits-from-the-ica-collection-no-ica-boston/
LOCATION:Institute of Contemporary Art Boston\, 25 Harbor Shore Dr\, Boston\, Massachusetts\, Estados Unidos
CATEGORIES:Boston
ATTACH;FMTTYPE=image/jpeg:https://artequeacontece.com.br/wp-content/uploads/2025/03/Artwork_Gwo-Tet_Didier-williams.pdf.jpg
END:VEVENT
END:VCALENDAR