BEGIN:VCALENDAR
VERSION:2.0
PRODID:-//Arte Que Acontece - ECPv6.15.20//NONSGML v1.0//EN
CALSCALE:GREGORIAN
METHOD:PUBLISH
X-WR-CALNAME:Arte Que Acontece
X-ORIGINAL-URL:https://artequeacontece.com.br
X-WR-CALDESC:Eventos para Arte Que Acontece
REFRESH-INTERVAL;VALUE=DURATION:PT1H
X-Robots-Tag:noindex
X-PUBLISHED-TTL:PT1H
BEGIN:VTIMEZONE
TZID:America/Sao_Paulo
BEGIN:STANDARD
TZOFFSETFROM:-0300
TZOFFSETTO:-0300
TZNAME:-03
DTSTART:20230101T000000
END:STANDARD
END:VTIMEZONE
BEGIN:VEVENT
DTSTART;TZID=America/Sao_Paulo:20240302T110000
DTEND;TZID=America/Sao_Paulo:20240630T180000
DTSTAMP:20260422T053629
CREATED:20240306T172053Z
LAST-MODIFIED:20240306T172057Z
UID:47032-1709377200-1719770400@artequeacontece.com.br
SUMMARY:“Pop/Beat\, Italia 1960-1979. Liberi di Sognare” na Fondazione Marconi
DESCRIPTION:Vista da exposição “Pop/Beat\, Italia 1960-1979. Liberi di Sognare” na Fondazione Marconi\, 2024. Imagem: Reprodução/Divulgação Fondazione Marconi\n\n\n\nIdealizado e curado pelo artista Roberto Floreani para a Prefeitura de Vicenza e Silvana Editoriale\, esta exposição inédita para a Itália traz obras de diversos museus\, galerias e coleções privadas\, reunindo as gerações Pop e Beat italianas pela primeira vez\, testemunhando um sentimento comum daquela época ligado a uma visão otimista do futuro e ao engajamento do movimento Sessantotto. \n\n\n\nSerá destacada a singularidade e a importância do movimento Pop italiano na Europa\, bem como as diferenças substanciais e a autonomia de seus artistas em relação aos americanos. A seção Pop apresentará quase uma centena de obras de trinta e cinco artistas\, privilegiando os grandes formatos que serão espetacularizados por uma ampla seção de esculturas. A seção Beat será garantida pela música daquela época\, representada por raros documentos originais\, e pela arte militante do Antigruppo siciliano.
URL:https://artequeacontece.com.br/evento/pop-beat-italia-1960-1979-liberi-di-sognare-na-fondazione-marconi/
LOCATION:Fondazione Marconi\, Via Tadino 15\, Milão\, Itália
CATEGORIES:Milão
ATTACH;FMTTYPE=image/jpeg:https://artequeacontece.com.br/wp-content/uploads/2024/03/fondazione-marconi-2024.jpg
END:VEVENT
END:VCALENDAR