BEGIN:VCALENDAR
VERSION:2.0
PRODID:-//Arte Que Acontece - ECPv6.15.20//NONSGML v1.0//EN
CALSCALE:GREGORIAN
METHOD:PUBLISH
X-WR-CALNAME:Arte Que Acontece
X-ORIGINAL-URL:https://artequeacontece.com.br
X-WR-CALDESC:Eventos para Arte Que Acontece
REFRESH-INTERVAL;VALUE=DURATION:PT1H
X-Robots-Tag:noindex
X-PUBLISHED-TTL:PT1H
BEGIN:VTIMEZONE
TZID:America/Sao_Paulo
BEGIN:STANDARD
TZOFFSETFROM:-0300
TZOFFSETTO:-0300
TZNAME:-03
DTSTART:20230101T000000
END:STANDARD
END:VTIMEZONE
BEGIN:VEVENT
DTSTART;TZID=America/Sao_Paulo:20240201T110000
DTEND;TZID=America/Sao_Paulo:20240323T190000
DTSTAMP:20260422T091249
CREATED:20240215T205220Z
LAST-MODIFIED:20240215T205226Z
UID:46412-1706785200-1711220400@artequeacontece.com.br
SUMMARY:"Plums\, Under Cover" de Kasper Bosmans na Mendes Wood DM
DESCRIPTION:Vista da exopsição “Plums\, Under Cover” de Kasper Bosmans\, Mendes Wood\, Paris\n\n\n\nPara marcar a ocasião\, o artista sediado em Bruxelas embarcou em uma incursão repleta de fantasia\, tendo como ponto de partida a descoberta de um belvedere do século XVI\, localizado no Jardim Real do Castelo de Praga\, e que mais tarde se tornou o local de autoisolamento do Sacro Imperador Romano Rudolf II. Segundo a lenda\, a sexualidade queer do governante boêmio levou à sua deposição do poder e a uma vida reclusa dedicada ao estudo da astronomia. Tais histórias não-canônicas frequentemente inspiram Bosmans a criar novas narrativas que lançam luz sobre o passado e ajudam a projetar novas possibilidades para o futuro. Bosmans é atraído por histórias que aludem à queerness\, um termo guarda-chuva com o qual o artista se sente mais confortável para construir uma prática baseada em poesia visual. \n\n\n\nEm Plums\, Under Cover\, Bosmans imagina histórias que atravessam o tempo: Amantes passeando pelos pomares de cerejeiras de cidades medievais\, pica-paus que funcionam como viajantes do tempo e pássaros cuco cantando sobre despertares sexuais. A fantasia deliberada das obras expostas fala ao desejo do artista de apresentar histórias que talvez sejam mais divertidas do que historicamente precisas. Os personagens que habitam essa mostra muitas vezes são construídos nas margens do que era considerado importante pela tradição\, no entanto\, é seu status periférico que os torna contribuições vitais. Os motivos animais recorrentes\, como morcegos\, carpas ou baleias\, contribuem de maneira ideal para uma das principais narrativas da exposição. As dinâmicas de poder duradouras e as numerosas expectativas que os humanos colocam nos animais encontram representação alegórica ideal nas obras de Bosmans. Da mesma forma\, o artista brinca com ideias de tempo e realidade\, oferecendo encontros surpreendentes que quebram a quarta parede dentro da exposição.
URL:https://artequeacontece.com.br/evento/plums-under-cover-de-kasper-bosmans-na-mendes-wood-dm/
LOCATION:Mendes Wood DM Paris\, 23 Place des Vosges\, Paris\, França
CATEGORIES:Paris
ATTACH;FMTTYPE=image/png:https://artequeacontece.com.br/wp-content/uploads/2024/02/Kasper-Bosmans.png
END:VEVENT
END:VCALENDAR