BEGIN:VCALENDAR
VERSION:2.0
PRODID:-//Arte Que Acontece - ECPv6.15.20//NONSGML v1.0//EN
CALSCALE:GREGORIAN
METHOD:PUBLISH
X-WR-CALNAME:Arte Que Acontece
X-ORIGINAL-URL:https://artequeacontece.com.br
X-WR-CALDESC:Eventos para Arte Que Acontece
REFRESH-INTERVAL;VALUE=DURATION:PT1H
X-Robots-Tag:noindex
X-PUBLISHED-TTL:PT1H
BEGIN:VTIMEZONE
TZID:America/Sao_Paulo
BEGIN:STANDARD
TZOFFSETFROM:-0300
TZOFFSETTO:-0300
TZNAME:-03
DTSTART:20220101T000000
END:STANDARD
END:VTIMEZONE
BEGIN:VEVENT
DTSTART;TZID=America/Sao_Paulo:20231006T110000
DTEND;TZID=America/Sao_Paulo:20231027T170000
DTSTAMP:20260422T060238
CREATED:20231005T173059Z
LAST-MODIFIED:20231005T173106Z
UID:44063-1696590000-1698426000@artequeacontece.com.br
SUMMARY:"Plantas Imaginárias de Proteção" de Yuli Anastassakis no Ateliê 31
DESCRIPTION:A artista Yuli Anastassakis apresenta\, a partir do dia 06 de outubro (sexta-feira)\, das 13 às 18h\, a exposição individual “Plantas Imaginárias de Proteção”\, no Ateliê 31\, centro do Rio de Janeiro\, com texto crítico de Shannon Botelho. Na mostra\, composta integralmente por obras em bordados\, Yuli apresenta um recorte recente de sua pesquisa\, na qual investiga as dinâmicas do tempo\, sua transcorrência\, sua velocidade e os sentidos por ele abarcados. \n\n\n\nEm “Plantas Imaginárias de Proteção”\, a artista que atualmente vive em Lisboa (Portugal)\, sugere um momento em que a projeção de imagens nos auxilia a pensar o presente e as possíveis formas de proteção que as plantas podem nos ofertar. Nos trabalhos apresentados são dispostas espécies inventadas para nos proteger\, uma vez que o real não basta e a imaginação criadora atravessa os véus do mundo palpável\, como amuletos bordados. \n\n\n\n“Após tantos séculos\, os humanos – apesar da negação sistêmica – não conseguiram abandonar\, nem desentender as plantas como seres protetores. Por esta razão esta exposição acontece\, como um misto de imaginação\, desejo\, crença e celebração das formas de proteção que subsistem ao embrutecimento do mundo contemporâneo”\, explica Shannon Botelho no texto crítico da exposição. Indicada ao Prêmio Pipa 2023\, Yuli Anastassakis cativa o observador pela poética do seu trabalho a partir da identificação que cada um\, individualmente\, se relacionará com o seu sentido de proteção.
URL:https://artequeacontece.com.br/evento/plantas-imaginarias-de-protecao-de-yuli-anastassakis-no-atelie-31/
LOCATION:Ateliê 31\, Rua México\, 31\, sala 1003 - Cinelândia\, Rio de Janeiro\, RJ\, Brasil
CATEGORIES:Rio de Janeiro
ATTACH;FMTTYPE=image/jpeg:https://artequeacontece.com.br/wp-content/uploads/2023/10/plantasimaginarias2_2023_linhabordadasobrelinho1.jpg-1-1.jpg
END:VEVENT
END:VCALENDAR