BEGIN:VCALENDAR
VERSION:2.0
PRODID:-//Arte Que Acontece - ECPv6.15.20//NONSGML v1.0//EN
CALSCALE:GREGORIAN
METHOD:PUBLISH
X-WR-CALNAME:Arte Que Acontece
X-ORIGINAL-URL:https://artequeacontece.com.br
X-WR-CALDESC:Eventos para Arte Que Acontece
REFRESH-INTERVAL;VALUE=DURATION:PT1H
X-Robots-Tag:noindex
X-PUBLISHED-TTL:PT1H
BEGIN:VTIMEZONE
TZID:America/Sao_Paulo
BEGIN:STANDARD
TZOFFSETFROM:-0300
TZOFFSETTO:-0300
TZNAME:-03
DTSTART:20220101T000000
END:STANDARD
END:VTIMEZONE
BEGIN:VEVENT
DTSTART;TZID=America/Sao_Paulo:20230412T100000
DTEND;TZID=America/Sao_Paulo:20230416T190000
DTSTAMP:20260422T092215
CREATED:20230913T170031Z
LAST-MODIFIED:20230913T170104Z
UID:43904-1681293600-1681671600@artequeacontece.com.br
SUMMARY:Piscina Art apresenta "Dançando na margem" na Fábrica Bhering
DESCRIPTION:Ao final de seu texto “The Carrier Bag Theory of Fiction”\, parte do livro Dancing at the Edge of the World (1989) – título traduzido livremente e adaptado para nomear essa exposição–\, Ursula K. Le Guin nos conta que a ficção científica\, por mais engraçada ou fantasiosa\, é uma tentativa de descrever o que de fato está acontecendo numa determinada época\, o que as pessoas realmente fazem e sentem\, e de como elas se relacionam com o mundo. As obras aqui reunidas estão informadas por reflexões sobre o agora\, consequência do nosso passado e prenhe do nosso futuro e\, várias delas\, podem ser consideradas ficções descritivas da nossa realidade. Concebidos em sua maioria entre 2020 e 2023\, ou seja\, num período pandêmico ou pós-pandêmico\, os trabalhos estão informados de um imaginário carregado de uma possibilidade de não-existência ou de um não-futuro.
URL:https://artequeacontece.com.br/evento/piscina-art-apresenta-dancando-na-margem-na-fabrica-bhering/
LOCATION:Fábrica Bhering\, Rua Orestes\, 28 - Santo Cristo\, Rio de Janeiro\, RJ\, Brasil
CATEGORIES:Rio de Janeiro
ATTACH;FMTTYPE=image/jpeg:https://artequeacontece.com.br/wp-content/uploads/2023/09/Piscina_ArtRio2023_9-1.jpg
END:VEVENT
END:VCALENDAR