BEGIN:VCALENDAR
VERSION:2.0
PRODID:-//Arte Que Acontece - ECPv6.15.20//NONSGML v1.0//EN
CALSCALE:GREGORIAN
METHOD:PUBLISH
X-WR-CALNAME:Arte Que Acontece
X-ORIGINAL-URL:https://artequeacontece.com.br
X-WR-CALDESC:Eventos para Arte Que Acontece
REFRESH-INTERVAL;VALUE=DURATION:PT1H
X-Robots-Tag:noindex
X-PUBLISHED-TTL:PT1H
BEGIN:VTIMEZONE
TZID:America/Sao_Paulo
BEGIN:STANDARD
TZOFFSETFROM:-0300
TZOFFSETTO:-0300
TZNAME:-03
DTSTART:20220101T000000
END:STANDARD
END:VTIMEZONE
BEGIN:VEVENT
DTSTART;TZID=America/Sao_Paulo:20231018T110000
DTEND;TZID=America/Sao_Paulo:20240115T210000
DTSTAMP:20260422T085453
CREATED:20231026T134755Z
LAST-MODIFIED:20231026T134804Z
UID:44505-1697626800-1705352400@artequeacontece.com.br
SUMMARY:"Picasso. Dessiner à l’infini" no Centre Pompidou
DESCRIPTION:Por ocasião da celebração dos cinquenta anos da morte de Pablo Picasso\, a exposição Picasso. Dessiner à l’infini\, organizada pelo Centre Pompidou em colaboração com o Museu Nacional Picasso – Paris\, destaca a parte mais prolífica de sua criação por meio da apresentação de quase mil obras (cadernos\, desenhos e gravuras). \n\n\n\nDesde seus estudos de juventude até suas obras finais\, o desenho é o local onde Picasso encontra uma invenção constantemente renovada. Essa jornada pela obra gráfica\, uma espécie de diário mantido compulsivamente\, com os cadernos sendo os exemplos mais preciosos\, oferece uma imersão no coração do trabalho do desenhista. O percurso proposto\, não linear e que desafia a estrita cronologia\, permite criar conexões entre diferentes períodos e confrontar obras-primas reconhecidas com desenhos apresentados pela primeira vez. Sendo a maior retrospectiva da obra desenhada e gravada já organizada\, “Picasso. Desenhar ao Infinito” mergulha o visitante no turbilhão da criação picassiana.
URL:https://artequeacontece.com.br/evento/picasso-dessiner-a-linfini-no-centre-pompidou/
LOCATION:Centre Pompidou\, Place Georges-Pompidou\, Paris\, França
CATEGORIES:Paris
ATTACH;FMTTYPE=image/jpeg:https://artequeacontece.com.br/wp-content/uploads/2023/10/Pablo-Picasso-Faune-cheval-et-oiseau-1936-1-1.jpg
END:VEVENT
END:VCALENDAR