BEGIN:VCALENDAR
VERSION:2.0
PRODID:-//Arte Que Acontece - ECPv6.15.20//NONSGML v1.0//EN
CALSCALE:GREGORIAN
METHOD:PUBLISH
X-WR-CALNAME:Arte Que Acontece
X-ORIGINAL-URL:https://artequeacontece.com.br
X-WR-CALDESC:Eventos para Arte Que Acontece
REFRESH-INTERVAL;VALUE=DURATION:PT1H
X-Robots-Tag:noindex
X-PUBLISHED-TTL:PT1H
BEGIN:VTIMEZONE
TZID:America/Sao_Paulo
BEGIN:STANDARD
TZOFFSETFROM:-0300
TZOFFSETTO:-0300
TZNAME:-03
DTSTART:20240101T000000
END:STANDARD
END:VTIMEZONE
BEGIN:VEVENT
DTSTART;TZID=America/Sao_Paulo:20250518T110000
DTEND;TZID=America/Sao_Paulo:20250705T180000
DTSTAMP:20260419T122720
CREATED:20250520T133151Z
LAST-MODIFIED:20250520T133151Z
UID:62727-1747566000-1751738400@artequeacontece.com.br
SUMMARY:"Pequenas Pinturas III" no auroras
DESCRIPTION:Tatiana Chalhoub\, “Sombra”\, 2024 – Crédito: Divulgação\n\n\n\n\nO auroras apresenta a terceira edição da exposição coletiva Pequenas Pinturas\, com obras em pequenos formatos de vinte e seis artistas de diferentes gerações. Assim como nas edições anteriores\, a seleção das obras foi feita em colaboração com cada artista\, enfatizando o diálogo no ateliê — um espaço onde os pensamentos se articulam e o trabalho reflete sobre si mesmo\, suas condições e possibilidades. A escolha dos pequenos formatos destaca uma relação íntima e direta com a poética de cada artista. A primeira parte da exposição ficou em cartaz entre 16 de março e 3 de maio de 2025.
URL:https://artequeacontece.com.br/evento/pequenas-pinturas-iii-no-auroras/
LOCATION:Auroras\, 426 Av. São Valério Morumbi\, São Paulo\, São Paulo\, Brasil
CATEGORIES:São Paulo
ATTACH;FMTTYPE=image/jpeg:https://artequeacontece.com.br/wp-content/uploads/2025/05/bXkpcbq1-1-1.jpeg
END:VEVENT
END:VCALENDAR