BEGIN:VCALENDAR
VERSION:2.0
PRODID:-//Arte Que Acontece - ECPv6.15.20//NONSGML v1.0//EN
CALSCALE:GREGORIAN
METHOD:PUBLISH
X-WR-CALNAME:Arte Que Acontece
X-ORIGINAL-URL:https://artequeacontece.com.br
X-WR-CALDESC:Eventos para Arte Que Acontece
REFRESH-INTERVAL;VALUE=DURATION:PT1H
X-Robots-Tag:noindex
X-PUBLISHED-TTL:PT1H
BEGIN:VTIMEZONE
TZID:America/Sao_Paulo
BEGIN:STANDARD
TZOFFSETFROM:-0300
TZOFFSETTO:-0300
TZNAME:-03
DTSTART:20220101T000000
END:STANDARD
END:VTIMEZONE
BEGIN:VEVENT
DTSTART;TZID=America/Sao_Paulo:20230708T090000
DTEND;TZID=America/Sao_Paulo:20231030T180000
DTSTAMP:20260422T070935
CREATED:20230711T173731Z
LAST-MODIFIED:20230711T173737Z
UID:42196-1688806800-1698688800@artequeacontece.com.br
SUMMARY:Paulo Chavonga no Museu da Imigração
DESCRIPTION:O Museu da Imigração inaugura a nova exposição do artista plástico\, poeta e cineasta angolano Paulo Chavonga\, intitulada Onde o arco-íris se esconde. Artista nascido em Benguela\, Angola\, vive atualmente em São Paulo\, e tem apresentado um olhar atento para a vida e seus espaços. Da janela de seu ateliê às praças da cidade\, ele registra o cotidiano com foco nas pessoas. Apoiado em diferentes suportes e materialidades\, tendo a pintura como linguagem central\, em uma paleta de tons vibrantes\, ele observa a realidade e a transforma em imagem de crítica social\, sem que isso o impeça de dialogar com extrema poesia e sensibilidade. Nessa exposição\, Chavonga faz conexões entre trajetórias de imigrantes africanos\, a experiência cotidiana em outro país e o universo da representatividade artística. O trabalho envolve perspectiva de resistência sobre a ideia de permanência e resiliência ao pensar arte como contato com a cultura dele. “Histórias que pintam África Pelas Ruas de São Paulo é um compromisso político comigo e com as pessoas ao meu entorno. Nele\, eu problematizo o imaginário brasileiro do imigrante e negro através da pintura\, da poesia e do cinema“\, destaca. Para focar no aspecto humanista da mostra\, o artista conta sua própria história com fotos de sua família em Angola. “Todo imigrante tem uma história e uma memória. Quero criar um olhar humano entre o brasileiro e o imigrante africano. Quero dar voz aos africanos. A mostra reúne também denúncias de xenofobia e racismo\, o que tem levado à migração reversa\, onde os imigrantes africanos saem do Brasil para outros países ou mesmo para retornarem para sua terra natal”\, explica o artista. A exposição\, curada por Luciana Ribeiro\, integra 60 pinturas\, uma instalação que reproduz uma barraca de venda de tecidos da Praça da República\, dois vídeos e doze poemas. No dia da estreia\, os poemas serão declamados pelos poetas angolanos Ermi Pazo e Mwana N’gola.
URL:https://artequeacontece.com.br/evento/paulo-chavonga-no-museu-da-imigracao/
LOCATION:Museu da Imigração\, Rua Visconde de Parnaíba\, 1316 - Mooca\, São Paulo\, SP\, Brasil
CATEGORIES:São Paulo
ATTACH;FMTTYPE=image/jpeg:https://artequeacontece.com.br/wp-content/uploads/2023/07/credito-Paulo-Chavonga_Divulgacao.jpg-2.jpg
END:VEVENT
END:VCALENDAR