BEGIN:VCALENDAR
VERSION:2.0
PRODID:-//Arte Que Acontece - ECPv6.15.20//NONSGML v1.0//EN
CALSCALE:GREGORIAN
METHOD:PUBLISH
X-WR-CALNAME:Arte Que Acontece
X-ORIGINAL-URL:https://artequeacontece.com.br
X-WR-CALDESC:Eventos para Arte Que Acontece
REFRESH-INTERVAL;VALUE=DURATION:PT1H
X-Robots-Tag:noindex
X-PUBLISHED-TTL:PT1H
BEGIN:VTIMEZONE
TZID:America/Sao_Paulo
BEGIN:STANDARD
TZOFFSETFROM:-0300
TZOFFSETTO:-0300
TZNAME:-03
DTSTART:20220101T000000
END:STANDARD
END:VTIMEZONE
BEGIN:VEVENT
DTSTART;TZID=America/Sao_Paulo:20230428T100000
DTEND;TZID=America/Sao_Paulo:20230806T180000
DTSTAMP:20260422T063430
CREATED:20230428T162756Z
LAST-MODIFIED:20230630T154227Z
UID:40140-1682676000-1691344800@artequeacontece.com.br
SUMMARY:"Paul Gauguin: o outro e eu" no MASP
DESCRIPTION:Paul Gauguin: o outro e eu é a primeira exposição no Brasil a abordar de maneira crítica os conteúdos centrais da obra do artista\, com foco em dois temas emblemáticos que emergem no conjunto apresentado no MASP: os autorretratos e os trabalhos produzidos durante sua permanência no Taiti (Polinésia Francesa)\, que se tornaram alguns dos mais conhecidos de sua trajetória. Com curadoria de Adriano Pedrosa\, diretor artístico do MASP\, Fernando Oliva\, curador MASP e Laura Cosendey\, curadora assistente MASP\, a exposição reúne 40 obras\, entre pinturas e gravuras\, e discute de maneira crítica a relação do artista pós-impressionista com a ideia de alteridade e da exotização do “outro”. Nascido em Paris\, Gauguin dedicou-se\, sobretudo\, à pintura\, sendo considerado uma figura emblemática na história da arte por se destacar das convenções pictóricas do século 19. Viveu parte de sua infância no Peru e foi somente aos 35 anos que passou a se dedicar exclusivamente ao trabalho artístico. Passou algumas temporadas em regiões da França\, como Bretanha e Arles\, onde conviveu com o artista holandês Vincent van Gogh durante os intensos meses em que dividiram um ateliê. Frustrado com a cena artística da metrópole parisiense e passando por dificuldades financeiras\, o artista nutria o desejo de partir em busca de outra experiência de mundo\, na qual pudesse aliar sua pintura a um imaginário para além dos padrões da cultura europeia. Foi assim que Gauguin viajou ao Taiti\, na Polinésia Francesa\, em 1891 e\, após um intervalo de dois anos em Paris\, retornou ao Pacífico para lá permanecer até a sua morte\, em 1903\, nas Ilhas Marquesas. Paul Gauguin: o outro e eu faz parte de uma série de mostras que\, desde 2016\, com Histórias da Infância\, procura analisar\, a partir de perspectivas críticas\, artistas europeus canônicos pertencentes ao acervo do MASP\, problematizando essas obras da tradição à luz de questões contemporâneas.
URL:https://artequeacontece.com.br/evento/paul-gauguin-o-outro-e-eu-no-masp/
LOCATION:Masp\, 1578 Av. Paulista Bela Vista\, São Paulo\, São Paulo\, Brasil
CATEGORIES:São Paulo
ATTACH;FMTTYPE=image/jpeg:https://artequeacontece.com.br/wp-content/uploads/2023/04/Paul-Gauguin-Pauvre-pecheur-Pobre-pescador-1896-acervo-MASP-1.jpg
END:VEVENT
END:VCALENDAR