BEGIN:VCALENDAR
VERSION:2.0
PRODID:-//Arte Que Acontece - ECPv6.15.20//NONSGML v1.0//EN
CALSCALE:GREGORIAN
METHOD:PUBLISH
X-WR-CALNAME:Arte Que Acontece
X-ORIGINAL-URL:https://artequeacontece.com.br
X-WR-CALDESC:Eventos para Arte Que Acontece
REFRESH-INTERVAL;VALUE=DURATION:PT1H
X-Robots-Tag:noindex
X-PUBLISHED-TTL:PT1H
BEGIN:VTIMEZONE
TZID:America/Sao_Paulo
BEGIN:STANDARD
TZOFFSETFROM:-0300
TZOFFSETTO:-0300
TZNAME:-03
DTSTART:20240101T000000
END:STANDARD
END:VTIMEZONE
BEGIN:VEVENT
DTSTART;TZID=America/Sao_Paulo:20250314T110000
DTEND;TZID=America/Sao_Paulo:20250525T190000
DTSTAMP:20260419T122841
CREATED:20250313T145053Z
LAST-MODIFIED:20250313T145053Z
UID:61547-1741950000-1748199600@artequeacontece.com.br
SUMMARY:"Patricia Leite – Olho d’água" no Instituto Tomie Ohtake
DESCRIPTION:Patricia Leite\, “Avencas”\, 2017. Cortesia da artista e Mendes Wood DM. Foto: EstudioEmObra\n\n\n\n\nO Ministério da Cultura\, via Lei Federal de Incentivo à Cultura\, e o Instituto Tomie Ohtake com e apoio da Mendes Wood DM e Thomas Dane Gallery\, apresentam Patricia Leite – Olho d’água\, exposição realizada na esteira dos projetos que vem promovendo nos últimos anos acerca da representatividade e da importância de artistas mulheres na cena artística nacional – Anna Maria Maiolino; Vânia Mignone; Iole de Freitas\, Maria Lira Marques e Mira Schendel são os exemplos mais recentes. Paralelamente à mostra da artista mineira\, será inaugurada a exposição Instituto Tomie Ohtake visita Coleção Vilma Eid – Em cada canto. \nCom curadoria de Germano Dushá Olho d’água reúne cerca de 30 obras\, entre desenhos\, pinturas e objetos que perpassam os quarenta anos da trajetória artística de Patricia Leite. Estão presentes desde os trabalhos da década de 1980 até outros inéditos realizados em 2025. Segundo Dushá\, o público encontrará “um recorte específico que dá testemunho\, igualmente\, da capacidade elástica e da coesão estilística de uma artista tão inventiva quanto fiel ao seu condão”. \nDo início de carreira\, quando a artista produzia sobretudo desenhos abstratos\, há um destaque para um grupo de pastéis sobre papel que datam de 1986\, além da sua primeira pintura\, uma acrílica sobre tela de 1988. Tempos depois\, Leite passaria a usar a madeira como principal suporte para suas pinturas. Segundo o curador\, apesar do abstracionismo inquestionável\, esses trabalhos iniciais já sugerem um percurso para o que mais tarde será sua figuração. “Para uma imaginação desprendida\, certamente será possível entrever os princípios de um jardim\, de um parque ou de uma serra”\, afirma Dushá.  \nAlgumas das mais emblemáticas obras de Patrícia Leite estão na exposição. São pinturas nas quais a artista cria o que chama de “sensações de paisagens” – um pôr do sol\, um luar\, uma praia ao anoitecer\, cachoeiras\, recortes da mata\, céus estrelados ou com fogos de artifício. Obras cujas fontes de inspiração possam ter sido viagens\, diálogos com amigos\, letras de músicas\, cenas de filmes\, trechos de poesias\, recordações marcantes ou fotografias tiradas por ela ou encontradas. Segundo Dushá\, “Num balanço entre o magnetismo da brasilidade e a vocação para o universal\, sua obra celebra o que há desingular na cultura brasileira\, sem\, no entanto\, limitar-se”. \nDo ponto de vista pictórico\, as pinturas trazem composições sintéticas formadas por grandes blocos de cor\, pinceladas visíveis e texturas marcantes. A paleta cromática é ao mesmo tempo sensível e vibrante\, expondo contrastes sutis entre tons rebaixados e forte luminosidade. \nUma novidade apresentada ao público pela primeira vez nesta exposição são os objetos produzidos entre 2020 e 2025. São pequenas peças compostas pela união de itens encontrados\, como pedaços de vidro\, madeiras\, pedrinhas\, miçangas e miudezas decorativas. Segundo o curador\, “guardam em si o contraste entre a delicadeza e o rudimentar\, afirmando\, de modo proposital\, sua incompletude”. Dushá lembra que\, ao serem expostas ao lado dos primeiros desenhos abstratos\, essa peças “parecem conferir corpo aos diagramas de cores e texturas. De igual modo\, formam pequenas paisagens\, remetendo às praias e morros que observamos nas pinturas de fases mais recentes”\, observa o curador.
URL:https://artequeacontece.com.br/evento/patricia-leite-olho-dagua-no-instituto-tomie-ohtake/
LOCATION:Instituto Tomie Ohtake\, Rua Coropé\, 88 - Pinheiros\, São Paulo\, SP\, Brasil
CATEGORIES:São Paulo
ATTACH;FMTTYPE=image/jpeg:https://artequeacontece.com.br/wp-content/uploads/2025/03/Patricia-Leite-Avencas-2017-oleo-sobre-madeira-40-x-50-cm-Courtesy-of-the-artist-and-Mendes-Wood-DM.-Copyright-The-Artist.-Photo-by-EstudioEmObra-1.jpg
END:VEVENT
END:VCALENDAR