BEGIN:VCALENDAR
VERSION:2.0
PRODID:-//Arte Que Acontece - ECPv6.15.20//NONSGML v1.0//EN
CALSCALE:GREGORIAN
METHOD:PUBLISH
X-WR-CALNAME:Arte Que Acontece
X-ORIGINAL-URL:https://artequeacontece.com.br
X-WR-CALDESC:Eventos para Arte Que Acontece
REFRESH-INTERVAL;VALUE=DURATION:PT1H
X-Robots-Tag:noindex
X-PUBLISHED-TTL:PT1H
BEGIN:VTIMEZONE
TZID:America/Sao_Paulo
BEGIN:STANDARD
TZOFFSETFROM:-0300
TZOFFSETTO:-0300
TZNAME:-03
DTSTART:20240101T000000
END:STANDARD
END:VTIMEZONE
BEGIN:VEVENT
DTSTART;TZID=America/Sao_Paulo:20250505T100000
DTEND;TZID=America/Sao_Paulo:20250802T190000
DTSTAMP:20260422T072443
CREATED:20250604T191535Z
LAST-MODIFIED:20250606T055056Z
UID:63018-1746439200-1754161200@artequeacontece.com.br
SUMMARY:"Panta Rei sobre a Estrata" de Sophia Loeb na Carpintaria
DESCRIPTION:Sophia Loeb\, “O véu sobre a terra se reveste de fogo”\, 2025 – Cortesia Fortes D’Aloia & Gabriel\n\n\n\n\nA Fortes D’Aloia & Gabriel apresenta Panta Rei sobre a Estrata\, primeira exposição individual de Sophia Loeb no Brasil\, com abertura no dia 5 de junho\, na Carpintaria\, Rio de Janeiro. A mostra reúne um conjunto de novas pinturas que exploram camadas e estratos matéricos em transformação.  \nNascida no Brasil e radicada em Londres\, Sophia Loeb cria pinturas que evocam ampliações de processos biológicos imperceptíveis\, ou traduções de erupções cósmicas  estabelecendo uma ponte entre ambientes siderais e microscópicos. Tons vibrantes e contrastes marcados revelam a importância das reverberações sensoriais em sua obra\, atraindo o espectador para um campo visual tátil e magmático. \nO processo da artista é dinâmico e imersivo: as telas são giradas\, inclinadas e trabalhadas a partir de múltiplos ângulos\, enquanto os materiais — pigmentos líquidos\, em pó e bastões a óleo — são sobrepostos\, raspados e retrabalhados em constante diálogo com a superfície. Guiada pela própria matéria\, cada cor é aplicada com gestos que denotam o interesse da artista pelo envolvimento corporal. Essa consciência tem origem em seu trabalho inicial como escultora — disciplina da qual retira a fisicalidade e o toque —\, resultando em composições densas e volumosas\, que sugerem fenômenos geológicos e deslocamentos minerais.  \nA recente mudança de Loeb para um ateliê em São Paulo provocou uma transformação em sua paleta e despertou uma nova atenção às condições atmosféricas específicas da cidade. Em sintonia com o clima local\, elementos como chuva\, vapor\, umidade e estados aquáticos surgem como estruturas de sensações e ritmos formais. \nEm Seu olhar me fascina (2025)\, a artista pinta uma composição em paleta crepuscular com contornos  ameboides circulando o que poderia ser um corpo d’água\, banhadas por uma luz azul profunda. A obra é temática e formalmente líquida\, com passagens calmas e turbulentas que fluem e refluem no espaço pictórico. \n“Suas telas não fixam uma imagem: sustentam o que vibra\, o que muda\, o que ainda não encontrou contorno. A superfície se torna um campo de relação entre cor\, corpo e tempo — espaço onde o visível é instável\, e a forma\, sempre provisória. Ao insistir na processualidade\, sua obra afirma uma ética do contato: em vez de impor\, escuta; em vez de fixar a forma\, sustenta sua permeabilidade e impermanência. Seus trabalhos parecem acompanhar o que se move — abrindo brechas para presenças que ainda não têm nome\,” escreve Ana Roman\, curadora e escritora\, no ensaio crítico que acompanha a exposição.
URL:https://artequeacontece.com.br/evento/panta-rei-sobre-a-estrata-sophia-loeb-na-carpintaria/
LOCATION:Fortes D’aloia & Gabriel Carpintaria\, R. Jardim Botânico\, 971 - Jardim Botânico\, Rio de Janeiro\, RJ\, Brasil
CATEGORIES:Rio de Janeiro
ATTACH;FMTTYPE=image/jpeg:https://artequeacontece.com.br/wp-content/uploads/2025/06/sl300011-sophia-loeb-o-veu-sobre-a-terra-se-reveste-de-fogo-2025-ph-eduardo-ortega-ddm-1-scaled-1.jpg
END:VEVENT
END:VCALENDAR