BEGIN:VCALENDAR
VERSION:2.0
PRODID:-//Arte Que Acontece - ECPv6.15.20//NONSGML v1.0//EN
CALSCALE:GREGORIAN
METHOD:PUBLISH
X-WR-CALNAME:Arte Que Acontece
X-ORIGINAL-URL:https://artequeacontece.com.br
X-WR-CALDESC:Eventos para Arte Que Acontece
REFRESH-INTERVAL;VALUE=DURATION:PT1H
X-Robots-Tag:noindex
X-PUBLISHED-TTL:PT1H
BEGIN:VTIMEZONE
TZID:America/Sao_Paulo
BEGIN:STANDARD
TZOFFSETFROM:-0300
TZOFFSETTO:-0300
TZNAME:-03
DTSTART:20240101T000000
END:STANDARD
END:VTIMEZONE
BEGIN:VEVENT
DTSTART;TZID=America/Sao_Paulo:20251004T110000
DTEND;TZID=America/Sao_Paulo:20251122T170000
DTSTAMP:20260419T162144
CREATED:20251002T154858Z
LAST-MODIFIED:20251002T175752Z
UID:65323-1759575600-1763830800@artequeacontece.com.br
SUMMARY:"Palavra impecável" de Erika Dantas na ArteFASAM Galeria
DESCRIPTION:Obra de Erika Dantas. Foto: Divulgação\nA ArteFASAM Galeria inaugura no dia 4 de outubro a exposição Palavra impecável\, individual de Erika Dantas com ensaio curatorial de Manuela Saldarriaga H.\, em cartaz até 22 de novembro. Reunindo cerca de 18 trabalhos\, a mostra apresenta têxteis em miçanga\, cerâmicas\, máscaras e elementos vestíveis que funcionam como guardiões daquilo que não pode ser dito\, objetos concebidos para preservar e prolongar a energia das histórias e vínculos compartilhados. Inspirada pela experiência em San Lucas Tolimán\, na Guatemala\, a artista incorpora símbolos\, materiais naturais e rituais aprendidos junto à comunidade local\, transformando objetos cotidianos em recipientes de memória\, silêncio e espiritualidade. Para a curadora\, “Palavra impecável é um gesto ritual que explora o silêncio e a enunciação na criação íntima e coletiva\, situando a linguagem em registros alternativos\, entre os que o território se expressa mediante a paisagem\, seus seres viventes\, seu algodão e seu barro”.
URL:https://artequeacontece.com.br/evento/palavra-impecavel-de-erika-dantas-na-artefasam-galeria/
LOCATION:ArteFASAM Galeria\, Rua Brigadeiro Galvão\, 990 - Barra Funda\, São Paulo\, SP\, Brazil
CATEGORIES:São Paulo
ATTACH;FMTTYPE=image/jpeg:https://artequeacontece.com.br/wp-content/uploads/2025/10/Obra-de-Erica-Dantas-2-1.jpg
END:VEVENT
END:VCALENDAR