BEGIN:VCALENDAR
VERSION:2.0
PRODID:-//Arte Que Acontece - ECPv6.15.20//NONSGML v1.0//EN
CALSCALE:GREGORIAN
METHOD:PUBLISH
X-WR-CALNAME:Arte Que Acontece
X-ORIGINAL-URL:https://artequeacontece.com.br
X-WR-CALDESC:Eventos para Arte Que Acontece
REFRESH-INTERVAL;VALUE=DURATION:PT1H
X-Robots-Tag:noindex
X-PUBLISHED-TTL:PT1H
BEGIN:VTIMEZONE
TZID:America/Sao_Paulo
BEGIN:STANDARD
TZOFFSETFROM:-0300
TZOFFSETTO:-0300
TZNAME:-03
DTSTART:20230101T000000
END:STANDARD
END:VTIMEZONE
BEGIN:VEVENT
DTSTART;TZID=America/Sao_Paulo:20241019T110000
DTEND;TZID=America/Sao_Paulo:20241221T180000
DTSTAMP:20260422T053556
CREATED:20241023T135314Z
LAST-MODIFIED:20241023T135314Z
UID:58608-1729335600-1734804000@artequeacontece.com.br
SUMMARY:"Paisagens Antrópicas" de Christian Cravo na Casa Seva
DESCRIPTION:Créditos: Christian Cravo\n\n\n\n\nA Casa Seva\, um espaço expositivo dedicado à arte\, cultura e sustentabilidade\, receberá\, de 19 de outubro a 21 de dezembro\, a exposição Paisagens Antrópicas\, com obras do fotógrafo Christian Cravo. A mostra apresenta fragmentos da viagem do artista a países como Gana e Bangladesh em uma reflexão sobre os impactos da ação humana no meio ambiente. Os temas abordados são urgentes e atuais\, como a injustiça ambiental e a colonização de resíduos. \nChristian Cravo\, um dos principais nomes da fotografia contemporânea\, explora\, em sua primeira exposição individual na Casa Seva\, os espaços residuais que emergem do descarte industrial em lixões. Ele propõe uma visão inovadora de áreas frequentemente negligenciadas\, apresentando-as como ambientes em constante transformação e resiliência. Pelo conceito de “processos movediços”\, Cravo sugere que essas paisagens estão em fluxo contínuo\, tornando-se lugares de regeneração e potencial inovação. \nA mostra também aborda a prática do colonialismo de resíduos\, em que países desenvolvidos exportam lixo industrial para países em desenvolvimento\, revelando uma dura realidade de desigualdade social e ambiental\, amplamente observada desde os aterros de Gana até os desertos do Oriente Médio. \nNascido em Salvador\, Christian Cravo é filho do renomado artista Mário Cravo Neto e neto de Mário Cravo Júnior\, uma das maiores referências na arte brasileira. Com uma carreira de 25 anos\, o artista é reconhecido internacionalmente por suas obras que exploram a relação entre a natureza e a experiência humana. Seu olhar poético\, caracterizado por fotos de animais selvagens\, marca sua assinatura visual\, presente na coleção Paisagens Antrópicas. Os contrastes dramáticos e as composições minimalistas utilizadas nas imagens capturam a essência dos espaços retratados\, oferecendo ao espectador uma visão introspectiva sobre a desumanização de seus personagens na selva de lixo. \nCarolina Pileggi\, fundadora da Casa Seva\, acredita que a viagem pelas obras de Cravo desperta uma conscientização essencial sobre a complexa interação entre o ser humano e o ambiente\, especialmente em locais marginalizados e insalubres. “Christian tem uma habilidade única de transformar esses cenários em narrativas visuais profundamente envolventes\, que podem trazer uma nova perspectiva sobre a forma como consumimos\, provocando uma reflexão sobre nosso papel e nossas responsabilidades em relação ao planeta.” \nA Casa Seva\, alinhada com sua missão de unir arte e preservação ambiental\, propõe uma reflexão profunda sobre o descarte e o consumo não consciente por meio da exposição Paisagens Antrópicas. Mais do que apenas contemplar a beleza inusitada através do olhar de Christian\, a exposição busca dar voz aos impactos de nossas escolhas cotidianas\, desafiando a percepção de tempo e espaço. Ao revelar poesia onde menos se espera\, Paisagens Antrópicas mostra que\, mesmo nos cantos mais sombrios\, há potencial para mudança e renovação.
URL:https://artequeacontece.com.br/evento/paisagens-antropicas-de-christian-cravo-na-casa-seva/
CATEGORIES:São Paulo
ATTACH;FMTTYPE=image/jpeg:https://artequeacontece.com.br/wp-content/uploads/2024/10/Copia-de-_R9A2182-copy-1.jpg
END:VEVENT
END:VCALENDAR