BEGIN:VCALENDAR
VERSION:2.0
PRODID:-//Arte Que Acontece - ECPv6.15.20//NONSGML v1.0//EN
CALSCALE:GREGORIAN
METHOD:PUBLISH
X-WR-CALNAME:Arte Que Acontece
X-ORIGINAL-URL:https://artequeacontece.com.br
X-WR-CALDESC:Eventos para Arte Que Acontece
REFRESH-INTERVAL;VALUE=DURATION:PT1H
X-Robots-Tag:noindex
X-PUBLISHED-TTL:PT1H
BEGIN:VTIMEZONE
TZID:America/Sao_Paulo
BEGIN:STANDARD
TZOFFSETFROM:-0300
TZOFFSETTO:-0300
TZNAME:-03
DTSTART:20220101T000000
END:STANDARD
END:VTIMEZONE
BEGIN:VEVENT
DTSTART;TZID=America/Sao_Paulo:20231021T100000
DTEND;TZID=America/Sao_Paulo:20231106T190000
DTSTAMP:20260419T104421
CREATED:20231020T175606Z
LAST-MODIFIED:20231020T175614Z
UID:44431-1697882400-1699297200@artequeacontece.com.br
SUMMARY:"Paisagem Brasileira Contemporânea" na Galeria Contempo
DESCRIPTION:Entre outubro e novembro de 2022\, a exposição Paisagem Brasileira Contemporânea foi realizada na Casa de América\, em Madri\, na Espanha. Reunindo trabalhos de cinco artistas – os brasileiros Ana Durães\, Luiz Dolino\, Rubens Ianelli\, Tarm (nome artístico de Thiago Molon) e o cubano J. Pavel Herrera –\, a mostra foi idealizada a partir da coleção da Galeria Contempo\, que agora traz ao público paulistano esse expressivo recorte de produção pictórica figurativa e abstrata contemporânea. Composta de 23 obras\, a exposição será aberta em 21 de outubro\, com visitação até 6 de novembro. \n\n\n\n“Na Espanha\, o sucesso foi tanto que\, passado um ano\, resolvemos mostrar essa reunião de trabalhos a um número maior de pessoas. Os artistas fizeram tudo com muito esforço e carinho\, e retratam um país orgulhoso de suas raízes\, de sua cultura\, de sua história\, de sua diversidade\, de sua brasilidade. Por isso\, nos sentimos na obrigação de expor esses trabalhos na galeria e torná-los acessíveis ao público brasileiro”\, explica Monica Felmanas\, sócia-fundadora e curadora da Galeria Contempo. \n\n\n\nEm Madri\, as tratativas para a realização da exposição foram mediadas pela Embaixada do Brasil na Espanha\, no âmbito da diplomacia cultural entre os dois países\, como destaca Luiz Claudio Themudo\, ministro-conselheiro da instituição: \n\n\n\n“Participei ativamente do processo que culminou na organização da exitosa exposição de arte\, coberta de elogios de público e crítica. Um vibrante testemunho da vitalidade criativa desses artistas\, valendo-se das múltiplas linguagens que transitam entre o figurativo e o abstrato. Agora\, é chegada a vez de os brasileiros desfrutarem da coleção montada pela Contempo\, oferecendo em São Paulo uma nova oportunidade para o convívio com as obras que deleitaram o público espanhol”\, afirma. \n\n\n\nPara Márcia Felmanas\, sócia-fundadora da Galeria Contempo\, a coesão das obras escolhidas para a mostra coletiva advém sobretudo de um entendimento subjetivo do que caracteriza uma paisagem\, percepção expressa nas particularidades de cada um dos artistas que compõem a exposição Paisagem Brasileira Contemporânea. \n\n\n\n“Utilizamos o termo ‘paisagem’\, adotando o princípio vigente na geografia\, que adquire o conceito de tudo o que os sentidos humanos podem captar. Tudo o que a sua visão pode vislumbrar é uma paisagem\, tudo o que a sua audição pode ouvir é uma paisagem. Portanto\, tudo o que o ser humano pode sentir é paisagem. Ana Durães traz sua homenagem à natureza\, às flores e às matas do Brasil. Pavel nos mostra as geografias\, os oceanos e a distância entre os continentes. Tarm revela a paisagem do cotidiano nas comunidades. Ianelli apresenta as influências de sua vivência no Acre\, quando conviveu com os indígenas. Dolino vê na geometria\, na reta que liga dois pontos\, uma alusão ao percurso que caminhamos no decorrer de nossas vidas”\, conclui Márcia.
URL:https://artequeacontece.com.br/evento/paisagem-brasileira-contemporanea-na-galeria-contempo/
LOCATION:Galeria Contempo\, Al. Gabriel Monteiro da Silva\, 1644\, São Paulo\, SP\, Brasil
CATEGORIES:São Paulo
ATTACH;FMTTYPE=image/jpeg:https://artequeacontece.com.br/wp-content/uploads/2023/10/Thiago-Molon-Sem-titulo-oleo-sobre-tela-90x120-cm-2022-1-1.jpg
END:VEVENT
END:VCALENDAR