BEGIN:VCALENDAR
VERSION:2.0
PRODID:-//Arte Que Acontece - ECPv6.15.20//NONSGML v1.0//EN
CALSCALE:GREGORIAN
METHOD:PUBLISH
X-WR-CALNAME:Arte Que Acontece
X-ORIGINAL-URL:https://artequeacontece.com.br
X-WR-CALDESC:Eventos para Arte Que Acontece
REFRESH-INTERVAL;VALUE=DURATION:PT1H
X-Robots-Tag:noindex
X-PUBLISHED-TTL:PT1H
BEGIN:VTIMEZONE
TZID:America/Sao_Paulo
BEGIN:STANDARD
TZOFFSETFROM:-0300
TZOFFSETTO:-0300
TZNAME:-03
DTSTART:20230101T000000
END:STANDARD
END:VTIMEZONE
BEGIN:VEVENT
DTSTART;TZID=America/Sao_Paulo:20241008T100000
DTEND;TZID=America/Sao_Paulo:20241109T180000
DTSTAMP:20260422T060450
CREATED:20241008T163158Z
LAST-MODIFIED:20241008T163158Z
UID:54385-1728381600-1731175200@artequeacontece.com.br
SUMMARY:"Orixás: Personal Tales on Portraiture" de Gustavo Nazareno na Opera Gallery
DESCRIPTION:Gustavo Nazareno\, Eshu guiding a path (detalhe)\, 2024\n\n\n\n\n\n\n\n\nA Opera Gallery apresenta Orixás: Personal Tales on Portraiture\, uma exposição individual do artista paulista Gustavo Nazareno\, com curadoria de Samuele Visentin. Este evento marca o início da representação exclusiva de Nazareno pela galeria. \nNazareno desenvolveu uma linguagem artística única\, que faz uma ponte entre o espiritual e o contemporâneo. Sua obra é profundamente inspirada nas religiões afro-latinas\, especialmente o Candomblé brasileiro e seu panteão de divindades conhecidas como Orixás. A exposição reúne 16 pinturas a óleo e 25 desenhos a carvão\, através dos quais Nazareno convida o público a um mundo repleto de misticismo\, onde suas figuras reverenciam a ancestralidade e o sobrenatural. As figuras\, adornadas com trajes majestosos e ornamentação\, evocam tanto a pompa da alta-costura quanto a solenidade da iconografia religiosa. A linguagem visual de Nazareno homenageia influências diversas\, dos mestres renascentistas como Caravaggio à fotografia de moda contemporânea\, fundindo elementos antigos e modernos. A exposição não apenas celebra os Orixás\, mas também explora temas como negritude e resistência\, misticismo e o sobrenatural\, e as complexidades da ancestralidade e da diáspora. \nO curador Samuele Visentin reflete sobre a importância do trabalho de Nazareno: “Gustavo nos lembra da importância de encontrar um sentido pessoal de divindade\, dando forma a um panteão de Orixás cuja postura e presença corporificam e celebram o sincretismo visual do Candomblé.” \nOrixás: Personal Tales on Portraiture é uma jornada pela interseção entre misticismo\, ancestralidade e arte contemporânea\, representando um poderoso testemunho da natureza em constante evolução da identidade brasileira e do espírito duradouro da resiliência cultural. Convidamos você a experimentar esta extraordinária exibição de talento e visão.
URL:https://artequeacontece.com.br/evento/orixas-personal-tales-on-portraiture-de-gustavo-nazareno-na-opera-gallery/
LOCATION:Opera Gallery\, 65-66 New Bond St\, Londres\, United Kingdom
CATEGORIES:Londres
ATTACH;FMTTYPE=image/png:https://artequeacontece.com.br/wp-content/uploads/2024/10/Opera-Gallery_Detail-of-Gustavo-Nazareno-Eshu-guiding-a-path-2024-1-1.png
END:VEVENT
END:VCALENDAR