BEGIN:VCALENDAR
VERSION:2.0
PRODID:-//Arte Que Acontece - ECPv6.15.20//NONSGML v1.0//EN
CALSCALE:GREGORIAN
METHOD:PUBLISH
X-WR-CALNAME:Arte Que Acontece
X-ORIGINAL-URL:https://artequeacontece.com.br
X-WR-CALDESC:Eventos para Arte Que Acontece
REFRESH-INTERVAL;VALUE=DURATION:PT1H
X-Robots-Tag:noindex
X-PUBLISHED-TTL:PT1H
BEGIN:VTIMEZONE
TZID:America/Sao_Paulo
BEGIN:STANDARD
TZOFFSETFROM:-0300
TZOFFSETTO:-0300
TZNAME:-03
DTSTART:20240101T000000
END:STANDARD
END:VTIMEZONE
BEGIN:VEVENT
DTSTART;TZID=America/Sao_Paulo:20250909T110000
DTEND;TZID=America/Sao_Paulo:20251025T190000
DTSTAMP:20260419T115045
CREATED:20250910T211139Z
LAST-MODIFIED:20250910T211139Z
UID:64736-1757415600-1761418800@artequeacontece.com.br
SUMMARY:"Oríkì Ìwòran" de Ayrson Heráclito na Portas Vilaseca Galeria
DESCRIPTION:Vista da instalação “ORÍKÌ DE INSTRUÇÃO”\, 2025. Cortesia Portas Vilaseca\n\n\n\n\nA Portas Vilaseca apresenta “Oríkì Ìwòran”\, nova exposição individual de Ayrson Heráclito\, com curadoria de Lisette Lagnado\, que será inaugurada nesta terça-feira\, dia 9 de setembro\, a partir das 19h\, na sede da galeria no Rio de Janeiro. \nA mostra reúne trabalhos recentes e inéditos – entre esculturas\, desenhos e videoinstalações – que expandem a pesquisa do artista em torno da “ebó-arte”\, em diálogo com a ancestralidade afro-brasileira e os rituais do Candomblé. \nReconhecido pela abordagem contracolonial e pela dimensão sensorial e performativa de sua obra\, Heráclito propõe no espaço da Portas Vilaseca um percurso que entrelaça arte\, corpo e espiritualidade\, convidando o público a transformar a contemplação estética em um “devir-ritual”.
URL:https://artequeacontece.com.br/evento/oriki-iworan-de-ayrson-heraclito-na-portas-vilaseca-galeria/
LOCATION:Portas Vilaseca\, Rua Dona Mariana\, 137 casa 2\, Botafogo\, Rio de Janeiro\, RJ\, Brasil
CATEGORIES:Rio de Janeiro
ATTACH;FMTTYPE=image/jpeg:https://artequeacontece.com.br/wp-content/uploads/2025/09/Untitled_Panorama-2_baixa-1.jpg
END:VEVENT
END:VCALENDAR