BEGIN:VCALENDAR
VERSION:2.0
PRODID:-//Arte Que Acontece - ECPv6.15.20//NONSGML v1.0//EN
CALSCALE:GREGORIAN
METHOD:PUBLISH
X-WR-CALNAME:Arte Que Acontece
X-ORIGINAL-URL:https://artequeacontece.com.br
X-WR-CALDESC:Eventos para Arte Que Acontece
REFRESH-INTERVAL;VALUE=DURATION:PT1H
X-Robots-Tag:noindex
X-PUBLISHED-TTL:PT1H
BEGIN:VTIMEZONE
TZID:America/Sao_Paulo
BEGIN:STANDARD
TZOFFSETFROM:-0300
TZOFFSETTO:-0300
TZNAME:-03
DTSTART:20230101T000000
END:STANDARD
END:VTIMEZONE
BEGIN:VEVENT
DTSTART;TZID=America/Sao_Paulo:20241123T110000
DTEND;TZID=America/Sao_Paulo:20250504T170000
DTSTAMP:20260419T134212
CREATED:20250220T154930Z
LAST-MODIFIED:20250220T154930Z
UID:61193-1732359600-1746378000@artequeacontece.com.br
SUMMARY:"Ordinary People: Photorealism and the Work of Art since 1968" no MOCA
DESCRIPTION:Michael Alvarez\, “Look at This Photograph (L-R Primas Locas y El Mike\, Flea\, Go Shorty It’s Your Birthday)”\, 2018. Coleção de Anthony Lepore e Michael Henry Hayden\, cortesia do artista.\nReexaminando o movimento artístico do fotorrealismo no pós-guerra e suas linhagens na arte contemporânea\, Ordinary People: Photorealism and the Work of Art since 1968 apresenta mais de quarenta artistas—principalmente norte-americanos—e abrange do final dos anos 1960 até os dias atuais\, reunindo pinturas\, desenhos e esculturas. Esta exposição coletiva\, de caráter histórico e acadêmico\, revisita a história social do fotorrealismo\, ampliando sua compreensão para além das noções tradicionais de realismo. \nEmbora o fotorrealismo seja frequentemente interpretado como um ponto final—da figuração\, da representação e até da pintura ao final dos anos 1960—esta exposição propõe uma nova leitura\, destacando sua continuidade na arte contemporânea. A mostra inclui tanto artistas canônicos quanto nomes menos reconhecidos do fotorrealismo das décadas de 1960 e 1970\, como Robert Bechtle\, Vija Celmins\, Chuck Close\, Richard Estes\, Audrey Flack\, Duane Hanson e Idelle Weber; reconsidera artistas amplamente conhecidos sob a ótica do fotorrealismo\, como John Ahearn e Rigoberto Torres\, Barkley L. Hendricks\, Joan Semmel e Amy Sherald; e investiga como gerações mais jovens respondem a essa tradição\, incluindo Gina Beavers\, Cynthia Daignault\, Sayre Gomez\, Vincent Valdez e Christine Tien Wang. \nOrdinary People analisa as políticas de representação dentro da pintura fotorrealista\, especialmente no contexto do recente crescimento da pintura figurativa e da necessidade de ampliar a diversidade das representações nos museus. A exposição explora a importância do fotorrealismo como um registro da vida cotidiana\, ao mesmo tempo em que desdobra a tensão inerente entre imagens ordinárias e métodos artísticos extraordinários\, abordando questões de trabalho\, valor\, populismo e gosto. Além disso\, investiga como artistas utilizam o fotorrealismo para atrair espectadores com uma estética aparentemente não confrontadora—somente para expor imagens de eventos históricos traumáticos e experiências sociais frequentemente ignoradas ou consideradas difíceis de encarar. Finalmente\, a exposição argumenta que o fotorrealismo é uma ferramenta essencial para refletir criticamente sobre a economia da atenção no século XXI\, marcada pela saturação de imagens. \nA mostra é acompanhada por um catálogo de 256 páginas\, co-publicado pelo MOCA e DelMonico Books.
URL:https://artequeacontece.com.br/evento/ordinary-people-photorealism-and-the-work-of-art-since-1968-no-moca/
LOCATION:MOCA Grand Avenue\, 250 South Grand Avenue Los Angeles\, Los Angeles\, Califórnia\, Estados Unidos
CATEGORIES:Los Angeles
ATTACH;FMTTYPE=image/jpeg:https://artequeacontece.com.br/wp-content/uploads/2025/02/thumb_13184_1120_0_0_0_auto-1.jpg
END:VEVENT
END:VCALENDAR