BEGIN:VCALENDAR
VERSION:2.0
PRODID:-//Arte Que Acontece - ECPv6.15.20//NONSGML v1.0//EN
CALSCALE:GREGORIAN
METHOD:PUBLISH
X-WR-CALNAME:Arte Que Acontece
X-ORIGINAL-URL:https://artequeacontece.com.br
X-WR-CALDESC:Eventos para Arte Que Acontece
REFRESH-INTERVAL;VALUE=DURATION:PT1H
X-Robots-Tag:noindex
X-PUBLISHED-TTL:PT1H
BEGIN:VTIMEZONE
TZID:America/Sao_Paulo
BEGIN:STANDARD
TZOFFSETFROM:-0300
TZOFFSETTO:-0300
TZNAME:-03
DTSTART:20230101T000000
END:STANDARD
END:VTIMEZONE
BEGIN:VEVENT
DTSTART;TZID=America/Sao_Paulo:20240528T100000
DTEND;TZID=America/Sao_Paulo:20240901T173000
DTSTAMP:20260422T054231
CREATED:20240613T170849Z
LAST-MODIFIED:20240613T170851Z
UID:49252-1716890400-1725211800@artequeacontece.com.br
SUMMARY:"On Thin Ice" no Getty Center
DESCRIPTION:Skaters\, Colf Players\, and Sleighs on a Frozen River with a Ship at Right and a Dike at Left (detalhe)\, 1624\, Hendrick Avercamp. Coleção privada.\n\n\n\nEssa exposição explora o Livro das Maravilhas do Mundo\, um manuscrito iluminado feito na década de 1460 que entrelaça contos de lugares próximos e distantes. Contada a partir da perspectiva de um viajante de poltrona medieval no norte da França\, as localidades globais são retratadas como bizarras\, cativantes e às vezes perigosamente diferentes. Objetos adicionais na exposição destacam como as sensações sobrepostas de maravilha e medo ajudaram a criar estereótipos ocidentais do “outro” que ainda perduram hoje.
URL:https://artequeacontece.com.br/evento/on-thin-ice-no-getty-center/
LOCATION:Getty Center\, 1200 Getty Center Dr\, Los Angeles\, Califórnia\, Estados Unidos
CATEGORIES:Los Angeles
ATTACH;FMTTYPE=image/jpeg:https://artequeacontece.com.br/wp-content/uploads/2024/06/3_gm_39450001-1.jpg
END:VEVENT
END:VCALENDAR