BEGIN:VCALENDAR
VERSION:2.0
PRODID:-//Arte Que Acontece - ECPv6.15.20//NONSGML v1.0//EN
CALSCALE:GREGORIAN
METHOD:PUBLISH
X-WR-CALNAME:Arte Que Acontece
X-ORIGINAL-URL:https://artequeacontece.com.br
X-WR-CALDESC:Eventos para Arte Que Acontece
REFRESH-INTERVAL;VALUE=DURATION:PT1H
X-Robots-Tag:noindex
X-PUBLISHED-TTL:PT1H
BEGIN:VTIMEZONE
TZID:America/Sao_Paulo
BEGIN:STANDARD
TZOFFSETFROM:-0300
TZOFFSETTO:-0300
TZNAME:-03
DTSTART:20230101T000000
END:STANDARD
END:VTIMEZONE
BEGIN:VEVENT
DTSTART;TZID=America/Sao_Paulo:20241012T110000
DTEND;TZID=America/Sao_Paulo:20250316T180000
DTSTAMP:20260419T122819
CREATED:20241012T142929Z
LAST-MODIFIED:20241012T142929Z
UID:58435-1728730800-1742148000@artequeacontece.com.br
SUMMARY:"Olga de Amaral" na Fondation Cartier
DESCRIPTION:Vista da exposição © Olga de Amaral. Cortesia Lisson Gallery\n\n\n\n\nA Fondation Cartier pour l’art contemporain está apresentando a primeira grande retrospectiva na Europa de Olga de Amaral\, uma figura central da cena artística colombiana e da Arte Fibra. A exposição reúne cerca de oitenta obras realizadas entre os anos 1960 e os dias atuais\, muitas das quais nunca foram exibidas fora da Colômbia. Além das vibrantes peças em folha de ouro pelas quais a artista é conhecida\, a mostra revela suas primeiras explorações e experimentações com o têxtil\, bem como suas obras monumentais. \nDesde a década de 1960\, Olga de Amaral vem expandindo os limites do meio têxtil\, experimentando continuamente com diferentes materiais (linho\, algodão\, crina de cavalo\, gesso\, folha de ouro\, paládio) e técnicas: ela tece\, amarra\, trança e entrelaça fios para criar peças monumentais tridimensionais. Sua obra\, inclassificável\, se inspira tanto nos princípios modernistas que descobriu na Cranbrook Academy of Art\, nos Estados Unidos\, quanto nas tradições vernaculares de seu país e na arte pré-colombiana. Após apresentar seis obras da série Brumas na exposição Southern Geometries em 2018\, a Fondation Cartier agora traça toda a trajetória de Amaral\, celebrando a figura que ajudou a provocar uma verdadeira revolução nas artes têxteis.
URL:https://artequeacontece.com.br/evento/olga-de-amaral-na-fondation-cartier/
LOCATION:Fondation Cartier\, 261 Bd Raspail Paris\, Paris\, França
CATEGORIES:Paris
ATTACH;FMTTYPE=image/jpeg:https://artequeacontece.com.br/wp-content/uploads/2024/10/D854814-1.jpg
END:VEVENT
END:VCALENDAR