BEGIN:VCALENDAR
VERSION:2.0
PRODID:-//Arte Que Acontece - ECPv6.15.20//NONSGML v1.0//EN
CALSCALE:GREGORIAN
METHOD:PUBLISH
X-WR-CALNAME:Arte Que Acontece
X-ORIGINAL-URL:https://artequeacontece.com.br
X-WR-CALDESC:Eventos para Arte Que Acontece
REFRESH-INTERVAL;VALUE=DURATION:PT1H
X-Robots-Tag:noindex
X-PUBLISHED-TTL:PT1H
BEGIN:VTIMEZONE
TZID:America/Sao_Paulo
BEGIN:STANDARD
TZOFFSETFROM:-0300
TZOFFSETTO:-0300
TZNAME:-03
DTSTART:20230101T000000
END:STANDARD
END:VTIMEZONE
BEGIN:VEVENT
DTSTART;TZID=America/Sao_Paulo:20240208T110000
DTEND;TZID=America/Sao_Paulo:20240316T190000
DTSTAMP:20260419T104326
CREATED:20240208T140815Z
LAST-MODIFIED:20240208T140819Z
UID:46313-1707390000-1710615600@artequeacontece.com.br
SUMMARY:"Ode to Twisted Gods" de Pol Taburet na Mendes Wood DM
DESCRIPTION:A exposição de Pol Taburet\, com texto curatorial de Guillaume Blanc-Marianne\, é uma imersão profunda na complexidade e miscigenação da cultura\, tratada não como uma entidade monolítica\, mas como um emaranhado rico e dinâmico de influências\, histórias e interações. Taburet\, pertencente a uma geração globalizada\, navega por este “lodo lamaçento” cultural\, coletando e recontextualizando elementos dispersos para criar uma tapeçaria artística que desafia fronteiras e definições tradicionais. \n\n\n\nAutodefinido como “neo-afro-romântico”\, Taburet busca inspiração na liberdade do romantismo\, abraçando as contradições e as zonas limites entre o real e o imaginário\, o passado e o futuro\, e o mito versus fato. Esta abordagem é uma forma de “crítica moderna da modernidade”\, onde o artista contrapõe ao realismo uma visão irrealista e crítica\, ecoando a preocupação romântica com os impactos da modernização e a perda de uma conexão espiritual com o mundo natural.
URL:https://artequeacontece.com.br/evento/ode-to-twisted-gods-de-pol-taburet-na-mendes-wood-dm/
LOCATION:Mendes Wood DM\, R. Barra Funda\, 216 – Barra Funda\, São Paulo\, São Paulo
CATEGORIES:São Paulo
ATTACH;FMTTYPE=image/jpeg:https://artequeacontece.com.br/wp-content/uploads/2024/02/pol-taburet.jpg
END:VEVENT
END:VCALENDAR