BEGIN:VCALENDAR
VERSION:2.0
PRODID:-//Arte Que Acontece - ECPv6.15.20//NONSGML v1.0//EN
CALSCALE:GREGORIAN
METHOD:PUBLISH
X-WR-CALNAME:Arte Que Acontece
X-ORIGINAL-URL:https://artequeacontece.com.br
X-WR-CALDESC:Eventos para Arte Que Acontece
REFRESH-INTERVAL;VALUE=DURATION:PT1H
X-Robots-Tag:noindex
X-PUBLISHED-TTL:PT1H
BEGIN:VTIMEZONE
TZID:America/Sao_Paulo
BEGIN:STANDARD
TZOFFSETFROM:-0300
TZOFFSETTO:-0300
TZNAME:-03
DTSTART:20240101T000000
END:STANDARD
END:VTIMEZONE
BEGIN:VEVENT
DTSTART;TZID=America/Sao_Paulo:20250215T110000
DTEND;TZID=America/Sao_Paulo:20250430T190000
DTSTAMP:20260419T085137
CREATED:20250212T151554Z
LAST-MODIFIED:20250212T151554Z
UID:61019-1739617200-1746039600@artequeacontece.com.br
SUMMARY:"O lado de fora dos olhos fechados" de Mariana Manhães na Central Galeria
DESCRIPTION:Mariana Manhães\, “still belonging”\, 2025 – Divulgação / Central\nMariana Manhães apresenta a exposição individual O lado de fora dos olhos fechados a partir do dia 15 de fevereiro\, sábado\, na Central. \nUm conjunto que mescla escultura\, instalação e vídeo reorganiza a ambientação da galeria. Seguindo os procedimentos de sua última individual na Central\, Montanhas nos observam em time-lapse (2019)\, Manhães propõe alterações na iluminação do espaço e recorre a recursos sonoros para compor a percepção de uma “floresta inventada”\, como pontua a artista. \nO lado de fora dos olhos fechados marca a mudança na prática da artista\, que\, após um período de silêncio\, experimenta novos materiais e soluções formais para as obras apresentadas. “Meu interesse é entrar em algo que não tenha nome\, que não seja nem instalação\, nem escultura\, e sim\, todas as coisas juntas” conta Manhães. \nManhães foca\, nesta exposição\, na invenção de organismos e seus espaços próprios. “Seres organizados em círculo nesta sala\, como num alinhamento megalítico\, evocam a distribuição de elementos numa floresta\, onde habitam entes que vemos e que não vemos. Ronda o mistério; sinto que há um ritual em curso\, embora não seja capaz de nomeá-lo.” escreve Ana Avelar\, que assina o texto crítico da mostra. \nDurante a abertura\, que acontece entre 15h e 18h\, a artista Mayla Goerisch apresenta uma peça sonora que se inspira e dialoga com a exposição O Lado de Fora dos Olhos Fechados.
URL:https://artequeacontece.com.br/evento/o-lado-de-fora-dos-olhos-fechados-de-mariana-manhaes-na-central-galeria/
LOCATION:Central Galeria\, R. Minas Gerais\, 362 – Higienólpolis\, São Paulo\, SP
CATEGORIES:São Paulo
ATTACH;FMTTYPE=image/jpeg:https://artequeacontece.com.br/wp-content/uploads/2025/02/Mariana-Manhaes_ID5340_still-belonging_01a_web-1-1.jpg
END:VEVENT
END:VCALENDAR