BEGIN:VCALENDAR
VERSION:2.0
PRODID:-//Arte Que Acontece - ECPv6.15.20//NONSGML v1.0//EN
CALSCALE:GREGORIAN
METHOD:PUBLISH
X-WR-CALNAME:Arte Que Acontece
X-ORIGINAL-URL:https://artequeacontece.com.br
X-WR-CALDESC:Eventos para Arte Que Acontece
REFRESH-INTERVAL;VALUE=DURATION:PT1H
X-Robots-Tag:noindex
X-PUBLISHED-TTL:PT1H
BEGIN:VTIMEZONE
TZID:America/Sao_Paulo
BEGIN:STANDARD
TZOFFSETFROM:-0300
TZOFFSETTO:-0300
TZNAME:-03
DTSTART:20240101T000000
END:STANDARD
END:VTIMEZONE
BEGIN:VEVENT
DTSTART;TZID=America/Sao_Paulo:20250901T100000
DTEND;TZID=America/Sao_Paulo:20251018T180000
DTSTAMP:20260419T115046
CREATED:20250910T160805Z
LAST-MODIFIED:20250910T160805Z
UID:64696-1756720800-1760810400@artequeacontece.com.br
SUMMARY:"O início do mundo" na Pinakotheke Cultural
DESCRIPTION:Beatriz Milhazes\, “tonga II”\, 1994. Crédito: Sergio Guerini\n\n\n\n\nA Pinakotheke Cultural\, no Rio de Janeiro\, apresenta a exposição “O início do mundo”. Uma visão poética e sensível da mulher como matriz\, gênese\, força-motriz no mundo e no cotidiano é a ideia que agrega as 77 obras de 59 artistas mulheres\, percorrendo um arco geracional de um século. Entre as artistas\, estão Maria Martins (1894-1973)\, Lygia Pape (1927-2004)\, Celeida Tostes (1929-1995)\, Leticia Parente (1930-1991)\, Anna Bella Geiger (1933)\, Sonia Andrade (1935-2022)\, Regina Silveira (1939)\, Anna Maria Maiolino (1942)\, Ana Vitória Mussi (1943)\, Iole de Freitas (1945)\, Sonia Gomes (1948)\, Lenora de Barros (1953)\, Brígida Baltar (1959-2022)\, Beatriz Milhazes (1960)\, Rosângela Rennó (1962)\, Adriana Varejão (1964)\, Laura Lima (1971)\, Aline Motta (1974)\, Bárbara Wagner (1980) e Lyz Parayzo (1994). A curadoria é de Katia Maciel e Camila Perlingeiro\, que selecionaram trabalhos em pintura\, gravura\, desenho\, vídeo\, fotografia\, escultura e objetos.  A mostra ficará em cartaz de 1º de setembro a 18 de outubro de 2025\, com entrada gratuita. \nO início do mundo é um convite a regressar às origens. 59 mulheres evocam o feminino como princípio criador e força de transformação. Cada imagem\, cada matéria carrega em si a potência das metamorfoses cíclicas\, antigas e futuras. Aqui\, o começo não é um ponto fixo\, mas um movimento contínuo: um mundo que se reinventa no corpo feminino\, na memória e na arte. \n“Essa exposição é um projeto ousado\, mesmo para a Pinakotheke”\, diz Camila Perlingeiro. “Reunir tantas artistas e obras com suportes tão diversos foi certamente um desafio\, mas um que abraçamos com entusiasmo. Há anos pensávamos em uma mostra que envolvesse um número expressivo de artistas mulheres\, e a curadoria de Katia Maciel\, poeta e artista múltipla\, foi a garantia de um projeto ao mesmo tempo criterioso e sensível”. \nA montagem da exposição não obedece a um critério de linearidade. As aproximações são poéticas\, onde obras em diferentes suportes se agrupam – como filmes junto a fotografias\, ou pinturas que conversam com objetos\, por exemplo. “É um percurso orgânico”\, observa Camila Perlingeiro. \nA primeira sala é toda em preto e branco\, “porque simboliza o começo\, antes da cor\, antes de tudo”\, explica a curadora. As outras salas são uma reunião de obras que conversam profundamente entre si e ao mesmo tempo formam uma cacofonia delicada e potente de tudo o que simboliza o início e o ciclo da vida.
URL:https://artequeacontece.com.br/evento/o-inicio-do-mundo-na-pinakotheke-cultural/
LOCATION:Pinakotheke Cultural Rio de Janeiro\, Rua São Clemente 300\, Botafogo\, Rio de Janeiro\, RJ\, Brasil
CATEGORIES:Rio de Janeiro
ATTACH;FMTTYPE=image/jpeg:https://artequeacontece.com.br/wp-content/uploads/2025/09/Beatriz-Milhazes-tonga-II_1994_credito-Sergio-Guerini-1.jpg
END:VEVENT
END:VCALENDAR