BEGIN:VCALENDAR
VERSION:2.0
PRODID:-//Arte Que Acontece - ECPv6.15.20//NONSGML v1.0//EN
CALSCALE:GREGORIAN
METHOD:PUBLISH
X-WR-CALNAME:Arte Que Acontece
X-ORIGINAL-URL:https://artequeacontece.com.br
X-WR-CALDESC:Eventos para Arte Que Acontece
REFRESH-INTERVAL;VALUE=DURATION:PT1H
X-Robots-Tag:noindex
X-PUBLISHED-TTL:PT1H
BEGIN:VTIMEZONE
TZID:America/Sao_Paulo
BEGIN:STANDARD
TZOFFSETFROM:-0300
TZOFFSETTO:-0300
TZNAME:-03
DTSTART:20240101T000000
END:STANDARD
END:VTIMEZONE
BEGIN:VEVENT
DTSTART;TZID=America/Sao_Paulo:20251002T100000
DTEND;TZID=America/Sao_Paulo:20251104T190000
DTSTAMP:20260419T120855
CREATED:20251001T195320Z
LAST-MODIFIED:20251001T195320Z
UID:65293-1759399200-1762282800@artequeacontece.com.br
SUMMARY:"O Bestiário de Kixelô" de Arivanio na Aura
DESCRIPTION:Arivanio\, “Transes de morte”\, 2023. Foto: Levi Fanan\nNo ano em que foi indicado ao Prêmio PIPA\, Arivanio inaugura sua segunda individual na Aura no dia 02 de outubro\, das 18h às 21h. Sob curadoria de Theo Monteiro\, “O Bestiário de Kixelô” reúne cerca de 20 obras do artista\, incluindo três inéditas\, que destacam figurações animalescas para abordar temas fundamentais à humanidade\, como nascimento\, morte\, desejo\, violência e sobrevivência. \nO título da mostra remete à tradição dos bestiários medievais\, sob uma leitura contemporânea e fabulada do cotidiano sertanejo do artista. “Curioso que\, mesmo os seres verdadeiros e que faziam parte do universo europeu daquele período eram\, por vezes\, representados de forma fantasiosa. O objetivo\, afinal\, não era propriamente científico (ainda mais que esse tipo de visão de mundo inexistia naqueles recuados séculos). Tratava-se\, na verdade\, de uma coletânea extraída de textos lendários”\, observa o curador. Arivanio cria\, a partir de sua vivência em Quixelô\, no sertão do Ceará\, um bestiário povoado por animais de corpos longilíneos\, tratamentos expressivos e dimensões míticas. \nNas pinturas sobre tela\, os fundos são dominados por vermelhos intensos e as figuras mais frequentes são cachorros alvos. “Suas cadelas\, com úberes carregados de leite\, dando à luz ou amamentando\, aludem ao mito da fundação de Roma\, na qual uma loba teria amamentado os irmãos Rômulo e Remo. Em ‘Fura ou Aborto’\, tela de 2022\, ante um céu vermelho\, uma cadela branca dá a luz\, em um parto aparentemente sofrido\, a um cachorrinho. Ao lado dela\, um abutre negro de cabeça cinza espreita a cena\, quase como um sinal de que a morte constantemente ronda a vida\, mensagem reforçada por outros pássaros negros que\, ao longe\, povoam o céu. O mundo dessas pinturas é violento\, com sangue.”\, descreve Theo Monteiro. \nNos trabalhos realizados sobre sacos de cimento\, os elementos gráficos da embalagem passam a dialogar com as figuras representadas\, aproximando as obras de nossa realidade  material e cultural\, além de ressaltar o gesto pictórico e a potência expressiva de sua pintura. \nAo revisitar o imaginário dos bestiários sob a ótica de sua própria vivência\, o artista recria um imaginário animalesco que ilumina dilemas atemporais\, intrínsecos a todos os seres humanos e\, ainda assim\, sempre íntimos.
URL:https://artequeacontece.com.br/evento/o-bestiario-de-kixelo-de-arivanio-na-aura/
LOCATION:Aura Galeria\, Rua da Consolação\, 2767 - Jardins\, São Paulo\, SP\, Brasil
CATEGORIES:São Paulo
ATTACH;FMTTYPE=image/jpeg:https://artequeacontece.com.br/wp-content/uploads/2025/10/Arivanio-Transes-de-morte-2023.-Foto-Levi-Fanan-2.jpg
END:VEVENT
END:VCALENDAR