BEGIN:VCALENDAR
VERSION:2.0
PRODID:-//Arte Que Acontece - ECPv6.15.20//NONSGML v1.0//EN
CALSCALE:GREGORIAN
METHOD:PUBLISH
X-WR-CALNAME:Arte Que Acontece
X-ORIGINAL-URL:https://artequeacontece.com.br
X-WR-CALDESC:Eventos para Arte Que Acontece
REFRESH-INTERVAL;VALUE=DURATION:PT1H
X-Robots-Tag:noindex
X-PUBLISHED-TTL:PT1H
BEGIN:VTIMEZONE
TZID:America/Sao_Paulo
BEGIN:STANDARD
TZOFFSETFROM:-0300
TZOFFSETTO:-0300
TZNAME:-03
DTSTART:20220101T000000
END:STANDARD
END:VTIMEZONE
BEGIN:VEVENT
DTSTART;TZID=America/Sao_Paulo:20231125T100000
DTEND;TZID=America/Sao_Paulo:20240106T190000
DTSTAMP:20260422T053227
CREATED:20231127T164337Z
LAST-MODIFIED:20231127T164340Z
UID:45028-1700906400-1704567600@artequeacontece.com.br
SUMMARY:"O Baile" na Galeria Luis Maluf
DESCRIPTION:A Galeria Luis Maluf anuncia a última exposição do ano\, O Baile\, que inaugura em 25 de novembro na unidade do Jardins. A mostra apresenta obras de 19 artistas representados pela galeria\, totalizando mais de 80 peças\, incluindo esculturas\, pinturas e instalações. Inspirada pela citação de Paul Valéry – “Eu estava em ti\, ó movimento\, e fora de todas as coisas…” – a exposição busca explorar a dança como uma metáfora luminosa em tempos de incerteza. Em um mundo em constante reconfiguração\, O Baile propõe uma reflexão sobre o movimento\, desafiando narrativas convencionais e abraçando a caótica espiral do tempo. \n\n\n\nA exposição convida o espectador a ponderar sobre o movimento\, indagando sobre o que nos impulsiona à ação\, considerando a dança como uma expressão significativa desse conceito. Cada artista contribui para a exposição de maneira única\, e as obras serão organizadas em movimentos temáticos. Entre eles\, destaca-se Baile de Máscaras com Leandra Espírito Santo\, Dança das Cadeiras com Tatiane Freitas e Baile de Carnaval com a obra olfativa de Karola Braga\, Dança das cores com Edu Silva. Os visitantes serão conduzidos por esse baile temático ao percorrerem a galeria\, mergulhando em uma experiência envolvente e contemplativa. \n\n\n\nAntonio Bokel\, Barbara Basseto\, Bordalo II\, Edu Silva\, Finok\, Janet Vollebregt\, Julio Sarramian\, Karola Braga\, Leandra Espírito Santo\, Licida Vidal\, Luiz Escañuela\, Marcia Pastore\, Marina Sader\, Shizue Sakamoto\, Sofia Lotti\, Tatiane Freitas\, Thiago Nevs\, Vinicius Parisi e Yohannah de Oliveira são os nomes cujas obras compõem a mostra. Diferentes em suas criações como os trabalhos hiper-realistas de Luiz Escañuela\, passando pela crítica ao consumo com as obras de Bordalo II até os intrigantes aromas desenvolvidos por Karola Braga\, O Baile é isso: uma dança onde\, de certo modo\, há um repertório de gestos contextualizados coreograficamente\, como se em um encontro de corpos\, ainda que não fisicamente\, mas que buscam e se localizam em um lugar comum para suas expressões e performances. 
URL:https://artequeacontece.com.br/evento/o-baile-na-galeria-luis-maluf/
LOCATION:Galeria Luis Maluf (Jardins)\, Rua Peixoto Gomide\, 1887 - Jardins\, São Paulo\, SP
CATEGORIES:São Paulo
ATTACH;FMTTYPE=image/jpeg:https://artequeacontece.com.br/wp-content/uploads/2023/11/Finok_obra-Pitanga_TatianaMito_High-1-1-1.jpg
END:VEVENT
END:VCALENDAR