BEGIN:VCALENDAR
VERSION:2.0
PRODID:-//Arte Que Acontece - ECPv6.15.20//NONSGML v1.0//EN
CALSCALE:GREGORIAN
METHOD:PUBLISH
X-WR-CALNAME:Arte Que Acontece
X-ORIGINAL-URL:https://artequeacontece.com.br
X-WR-CALDESC:Eventos para Arte Que Acontece
REFRESH-INTERVAL;VALUE=DURATION:PT1H
X-Robots-Tag:noindex
X-PUBLISHED-TTL:PT1H
BEGIN:VTIMEZONE
TZID:America/Sao_Paulo
BEGIN:STANDARD
TZOFFSETFROM:-0300
TZOFFSETTO:-0300
TZNAME:-03
DTSTART:20220101T000000
END:STANDARD
END:VTIMEZONE
BEGIN:VEVENT
DTSTART;TZID=America/Sao_Paulo:20231130T100000
DTEND;TZID=America/Sao_Paulo:20240208T190000
DTSTAMP:20260419T122943
CREATED:20231129T153719Z
LAST-MODIFIED:20231129T153723Z
UID:45054-1701338400-1707418800@artequeacontece.com.br
SUMMARY:"Nunca só essa mente\, nunca só esse mundo" na Carpintaria
DESCRIPTION:A mostra reúne trabalhos históricos\, obras recentes e inéditas que juntas dão forma à busca por proximidade e reciprocidade com o mundo físico. Situando-se nos intervalos entre a nossa percepção imediata e a capacidade de imaginar outras cenas\, o trajeto construído delineia a natureza como reunião de processos de correlação entre o dado e o construído. As paisagens e configurações espaciais não se atém à representação de imagens ou vistas literais\, mas reconstituem atmosferas e ambiências intangíveis. \n\n\n\nCom obras de Aislan Pankararu\, Allan Weber\, Amadeo Luciano Lorenzato\, Anderson Borba\, Antonio Tarsis\, Barrão\, Carlos Bevilacqua\, Cristiano Lenhardt\, Efrain Almeida\, Erika Verzutti\, Ernesto Neto\, Frank Walter\, Gerben Mulder\, Gokula Stoffel\, Janaina Tschäpe\, João Maria Gusmão + Pedro Paiva\, Leda Catunda\, Luiz Zerbini\, Lucia Laguna\, Marina Rheingantz\, Mauro Restiffe\, Paulo Monteiro\, Robert Mapplethorpe\, Rodrigo Andrade\, Rodrigo Cass\, Rodrigo Matheus\, Sheroanawe Hakihiiwe\, Tadáskía\, Tatiana Chalhoub\, Tiago Carneiro da Cunha e Yuli Yamagata.
URL:https://artequeacontece.com.br/evento/nunca-so-essa-mente-nunca-so-esse-mundo-na-carpintaria/
LOCATION:Fortes D’aloia & Gabriel Carpintaria\, R. Jardim Botânico\, 971 - Jardim Botânico\, Rio de Janeiro\, RJ\, Brasil
CATEGORIES:Rio de Janeiro
ATTACH;FMTTYPE=image/jpeg:https://artequeacontece.com.br/wp-content/uploads/2023/11/GOKULA-STOFFEL-Bota-2022-1-1-1.jpg
END:VEVENT
END:VCALENDAR