BEGIN:VCALENDAR
VERSION:2.0
PRODID:-//Arte Que Acontece - ECPv6.15.20//NONSGML v1.0//EN
CALSCALE:GREGORIAN
METHOD:PUBLISH
X-WR-CALNAME:Arte Que Acontece
X-ORIGINAL-URL:https://artequeacontece.com.br
X-WR-CALDESC:Eventos para Arte Que Acontece
REFRESH-INTERVAL;VALUE=DURATION:PT1H
X-Robots-Tag:noindex
X-PUBLISHED-TTL:PT1H
BEGIN:VTIMEZONE
TZID:America/Sao_Paulo
BEGIN:STANDARD
TZOFFSETFROM:-0300
TZOFFSETTO:-0300
TZNAME:-03
DTSTART:20220101T000000
END:STANDARD
END:VTIMEZONE
BEGIN:VEVENT
DTSTART;TZID=America/Sao_Paulo:20230531T120000
DTEND;TZID=America/Sao_Paulo:20230708T180000
DTSTAMP:20260422T070935
CREATED:20230613T154346Z
LAST-MODIFIED:20230613T154424Z
UID:41422-1685534400-1688839200@artequeacontece.com.br
SUMMARY:Nour Jaouda na Union Pacific
DESCRIPTION:Nour Jaouda\, uma artista nascida e criada no Cairo\, atualmente divide sua vida entre Londres e sua cidade natal. Sua obra é um reflexo de sua identidade multifacetada e de sua experiência de pertencer a dois lugares ao mesmo tempo. Ela utiliza tecidos encontrados nos mercados do Cairo e de Londres para criar peças que incorporam a história social e a reflexão pessoal. Os materiais são costurados e mesclados em novas formas\, revelando vislumbres das vidas secretas que se desenrolam dentro das casas e das histórias transmitidas ao longo das gerações. Jaouda utiliza cores vivas e pigmentos naturais para tingir seus tecidos\, transformando-os em um arco-íris de tons que dançam e se infundem. Sua abordagem é uma fusão entre pintura e escultura\, explorando a transformação dos materiais e a fluidez dos tecidos. Suas peças de parede são inspiradas no tapete de oração islâmico\, incorporando elementos espirituais e geometria divina. A artista também trabalha com cimento\, esculpindo em sua face líquida antes de endurecer. Essa abordagem está entre a escultura e o desenho\, permitindo tomadas de decisão rápidas e marcações espontâneas. As estruturas de aço utilizadas por Jaouda são retiradas de antigas portas e portões do Cairo\, integrando o passado na criação do novo. Ao encontrar as instalações de Jaouda\, há uma sensação de um trabalho em andamento\, de um projeto que está apenas no meio e ainda ativo. Suas peças são provisórias e cheias de possibilidades\, convidando o observador a participar da reconstrução e interpretação das obras. Jaouda transcende os limites entre o estúdio e a galeria\, trazendo seu processo criativo para o espaço expositivo. Suas obras são um convite para explorar não apenas sua concepção\, mas também a história e as narrativas que as permeiam. Ao entrar em seu mundo artístico\, somos convidados a fazer parte desse processo de reconstrução e a refletir sobre a complexidade das cidades\, da identidade e das experiências compartilhadas.
URL:https://artequeacontece.com.br/evento/nour-jaouda-na-union-pacific/
LOCATION:Union Pacific\, 17 Goulston Street\, Londres\, Reino unido
CATEGORIES:Londres
ATTACH;FMTTYPE=image/jpeg:https://artequeacontece.com.br/wp-content/uploads/2023/06/image-asset-1-1-1.jpeg
END:VEVENT
END:VCALENDAR