BEGIN:VCALENDAR
VERSION:2.0
PRODID:-//Arte Que Acontece - ECPv6.15.20//NONSGML v1.0//EN
CALSCALE:GREGORIAN
METHOD:PUBLISH
X-WR-CALNAME:Arte Que Acontece
X-ORIGINAL-URL:https://artequeacontece.com.br
X-WR-CALDESC:Eventos para Arte Que Acontece
REFRESH-INTERVAL;VALUE=DURATION:PT1H
X-Robots-Tag:noindex
X-PUBLISHED-TTL:PT1H
BEGIN:VTIMEZONE
TZID:America/Sao_Paulo
BEGIN:STANDARD
TZOFFSETFROM:-0300
TZOFFSETTO:-0300
TZNAME:-03
DTSTART:20240101T000000
END:STANDARD
END:VTIMEZONE
BEGIN:VEVENT
DTSTART;TZID=America/Sao_Paulo:20250913T100000
DTEND;TZID=America/Sao_Paulo:20251011T190000
DTSTAMP:20260419T115038
CREATED:20250910T204059Z
LAST-MODIFIED:20250910T204059Z
UID:64727-1757757600-1760209200@artequeacontece.com.br
SUMMARY:"NOCETRA" de Vivian Caccuri n'A Gentil Carioca
DESCRIPTION:Vivian Caccuri\, “Vessura”\, 2025 – Divulgação / Cortesia A Gentil Carioca\nNo sábado\, 13 de setembro\, a partir das 19h\, Vivian Caccuri inaugura sua individual NOCETRA n’A Gentil Carioca\, no Rio de Janeiro. Na mesma ocasião\, a artista lança o livro Criatura Som e seus Espectros (Act Editora). \nA mostra\, que ocupará os dois prédios da galeria\, reúne um conjunto de obras inéditas e\, segundo a curadora Marielsa Castro Vizcarra\,“parte do desejo do artista de ir além da tendência de racionalizar cada gesto e desmantelar a falsa dicotomia entre corpo e mente\, ou sentimento e pensamento. Por meio de paisagens sonoras imersivas\, animações\, sonogramas bordados\, desenhos e esculturas\, Caccuri retrata o momento fugidio em que a emoção exaltada dissolve a consciência — quando as fronteiras do eu se derretem em pura sensação e restauram um ritmo interior do tempo há muito perdido. Tais sons privados são amplificados e projetados no espaço\, pareados com imagens de mulheres que se dissolvem em abstrações. Nocetra permeia o limite entre o público e o privado\, e convida o público a ouvir e sentir junto.” A abertura celebra os 22 anos da Galeria com uma festa conduzida por PEKØ liveset (Vera Fischer Era Clubber)\, CRIS O. (Crizin da ZO\, Equipe 7Rio) e Bia Marques. Na mesma ocasião\, serão apresentados a Parede Gentil nº 44 (Área Indígena)\, de Xadalu Tupã Jekupé\, e a Camisa Educação nº 92\, de Ana Matheus Abbade. Para completar\, teremos um bolo especial criado por Rose Afefé e Madah Sodré.
URL:https://artequeacontece.com.br/evento/nocetra-de-vivian-caccuri-na-gentil-carioca/
LOCATION:A Gentil Carioca\, 17 Rua Gonçalves Lédo Centro\, Rido de Janeiro\, Rio de Janeiro\, Brasil
CATEGORIES:Rio de Janeiro
ATTACH;FMTTYPE=image/jpeg:https://artequeacontece.com.br/wp-content/uploads/2025/09/agentilcarioca-vivian-caccuri-vessura-2025-1.jpg
END:VEVENT
END:VCALENDAR