BEGIN:VCALENDAR
VERSION:2.0
PRODID:-//Arte Que Acontece - ECPv6.15.20//NONSGML v1.0//EN
CALSCALE:GREGORIAN
METHOD:PUBLISH
X-WR-CALNAME:Arte Que Acontece
X-ORIGINAL-URL:https://artequeacontece.com.br
X-WR-CALDESC:Eventos para Arte Que Acontece
REFRESH-INTERVAL;VALUE=DURATION:PT1H
X-Robots-Tag:noindex
X-PUBLISHED-TTL:PT1H
BEGIN:VTIMEZONE
TZID:America/Sao_Paulo
BEGIN:STANDARD
TZOFFSETFROM:-0300
TZOFFSETTO:-0300
TZNAME:-03
DTSTART:20240101T000000
END:STANDARD
END:VTIMEZONE
BEGIN:VEVENT
DTSTART;TZID=America/Sao_Paulo:20250206T100000
DTEND;TZID=America/Sao_Paulo:20250511T180000
DTSTAMP:20260422T052958
CREATED:20250210T213134Z
LAST-MODIFIED:20250210T213134Z
UID:60971-1738836000-1746986400@artequeacontece.com.br
SUMMARY:"Noah Davis" no Barbican Centre
DESCRIPTION:Noah Davis\, “Pueblo del Rio\, Arabesque”\, 2014. Crédito: © The Estate of Noah Davis\, Cortesia The Estate of Noah Davis e David Zwirner\nCelebrando a vasta criatividade do artista falecido\, esta primeira retrospectiva apresenta Noah Davis como um dos pintores mais originais e enigmáticos a surgir nos últimos anos. \nBaseado principalmente em Los Angeles\, Noah Davis desenvolveu um conjunto de pinturas figurativas que exploram diversas facetas da vida negra. \nMovido pelo desejo de “representar as pessoas ao meu redor”\, Davis retratou figuras mergulhando em piscinas\, dormindo\, dançando e observando obras de arte\, em cenas que transitam entre o realismo e o onírico\, o júbilo e a melancolia. Ele buscava referências em fotografias anônimas\, arquivos pessoais\, cinema\, história da arte e sua própria imaginação para criar um corpo de trabalho cativante. Muitas vezes enigmáticas\, suas pinturas revelam um profundo senso de humanidade e as nuances emocionais do cotidiano. \nEm 2012\, Davis cofundou The Underground Museum com o objetivo de oferecer acesso gratuito a arte de nível internacional para a comunidade de Arlington Heights\, em Los Angeles. Esta exposição reúne mais de 50 trabalhos do artista\, abrangendo pintura\, escultura\, curadoria e iniciativas comunitárias\, desde 2007 até sua morte prematura em 2015.
URL:https://artequeacontece.com.br/evento/noah-davis-no-barbican-centre/
LOCATION:Barbican Centre\, Silk St Barbican London\, Londres\, Inglaterra\, Reino unido
CATEGORIES:Londres
ATTACH;FMTTYPE=image/jpeg:https://artequeacontece.com.br/wp-content/uploads/2025/02/04-1-1.jpg
END:VEVENT
END:VCALENDAR