BEGIN:VCALENDAR
VERSION:2.0
PRODID:-//Arte Que Acontece - ECPv6.15.20//NONSGML v1.0//EN
CALSCALE:GREGORIAN
METHOD:PUBLISH
X-WR-CALNAME:Arte Que Acontece
X-ORIGINAL-URL:https://artequeacontece.com.br
X-WR-CALDESC:Eventos para Arte Que Acontece
REFRESH-INTERVAL;VALUE=DURATION:PT1H
X-Robots-Tag:noindex
X-PUBLISHED-TTL:PT1H
BEGIN:VTIMEZONE
TZID:America/Sao_Paulo
BEGIN:STANDARD
TZOFFSETFROM:-0300
TZOFFSETTO:-0300
TZNAME:-03
DTSTART:20230101T000000
END:STANDARD
END:VTIMEZONE
BEGIN:VEVENT
DTSTART;TZID=America/Sao_Paulo:20240125T120000
DTEND;TZID=America/Sao_Paulo:20240309T190000
DTSTAMP:20260422T071647
CREATED:20240131T164534Z
LAST-MODIFIED:20240131T164538Z
UID:45908-1706184000-1710010800@artequeacontece.com.br
SUMMARY:"No Music Left" de Aksel Ree na Galeria Cavalo
DESCRIPTION:Cavalo (Rio de Janeiro) e Papai Contemporary (Oslo) têm o prazer de apresentar No Music Left\, a primeira exposição individual fora da Noruega do artista Aksel Ree. Abrindo no dia 25 de janeiro\, a exposição investiga os contrastes entre o corpo humano e a natureza\, inocência e maturidade\, criação e morte\, particularmente através do período da infância do artista após o falecimento do seu pai\, um pianista clássico. \n\n\n\nRee navega pelos desaﬁos de sua juventude através da criação de esculturas e instalações poéticas\, investigando os ciclos de luto e renascimento após a ausência paterna e o trauma familiar que se seguiu. O artista apresenta uma nova série de obras\, incluindo a instalação que dá título à exposição – um arranjo de pedais de piano suspensos no teto da galeria\, complementados por um pé esquerdo decepado esculpido. Além disso\, Aksel apresenta Interlude I e II (Umbilical and Floral Motifs)\, um conjunto de peças de parede em mármore com temas ﬂorais em estilo Art Nouveau adornando a cicatriz do umbigo. \n\n\n\nNo Music Left narra o delicado processo de fazer as pazes com o passado e com questões não resolvidas. Essas respostas podem vir de simples atos como olhar as coisas de uma perspectiva diferente. Em When I look upside down on a graveyard isso pode ser observado em uma foto projetada na parede com a imagem invertida. É uma lápide em forma de obelisco cercada por árvores. O artista reposiciona este exemplo de arquitetura fálica em uma adaga apontando para baixo ou uma estalactite\, espelhando este símbolo de masculinidade e fazendo-o ﬁcar voltado para o chão.
URL:https://artequeacontece.com.br/evento/no-music-left-de-aksel-ree-na-galeria-cavalo/
LOCATION:Galeria Cavalo\, Rua Sorocaba\, 51 - Botafogo\, Rio de Janeiro\, RJ\, Brasil
CATEGORIES:Rio de Janeiro
ATTACH;FMTTYPE=image/jpeg:https://artequeacontece.com.br/wp-content/uploads/2024/01/Aksel-Ree-No-Music-Left-2019-2024-detalhe.jpg
END:VEVENT
END:VCALENDAR