BEGIN:VCALENDAR
VERSION:2.0
PRODID:-//Arte Que Acontece - ECPv6.15.20//NONSGML v1.0//EN
CALSCALE:GREGORIAN
METHOD:PUBLISH
X-WR-CALNAME:Arte Que Acontece
X-ORIGINAL-URL:https://artequeacontece.com.br
X-WR-CALDESC:Eventos para Arte Que Acontece
REFRESH-INTERVAL;VALUE=DURATION:PT1H
X-Robots-Tag:noindex
X-PUBLISHED-TTL:PT1H
BEGIN:VTIMEZONE
TZID:America/Sao_Paulo
BEGIN:STANDARD
TZOFFSETFROM:-0300
TZOFFSETTO:-0300
TZNAME:-03
DTSTART:20240101T000000
END:STANDARD
END:VTIMEZONE
BEGIN:VEVENT
DTSTART;TZID=America/Sao_Paulo:20250208T110000
DTEND;TZID=America/Sao_Paulo:20250315T170000
DTSTAMP:20260422T054548
CREATED:20250207T163409Z
LAST-MODIFIED:20250207T163732Z
UID:60942-1739012400-1742058000@artequeacontece.com.br
SUMMARY:"Ninho" de Gabriel Loew na ArteFASAM Galeria
DESCRIPTION:Detalhe da obra de Gabriel Loew – Crédito: Divulgação / ArteFASAM Galeria\nA ArteFASAM Galeria em seu espaço de SP\, inaugura o ano de 2025 com a primeira exposição individual de Gabriel Loew\, intitulada “Ninho”\, com curadoria de Arthur Palhano\, neste sábado dia 08/fevereiro/2025\, de 11h às 17h\, . \nO conceito da mostra de Gabriel Loew gira em torno da criação da identidade\, da permanência da memória e da maneira como percebemos\, absorvemos e vivenciamos imagens\, sensações e momentos. A exposição propõe uma reflexão profunda sobre a construção contínua da identidade em uma pintura\, que não é fixa\, mas sim um processo dinâmico e fragmentado\, em que o passado e o presente se entrelaçam de maneira fluida. Ao mesmo tempo\, questiona a forma como nossa percepção visual\, saturada de estímulos\, impacta nossa memória e a maneira como nos conectamos com o mundo e com nós mesmos. A obra de Loew\, ao manipular imagens\, matéria e texturas\, busca a formação de nossa própria memória\, levando o espectador a refletir sobre o papel das imagens na construção da experiência humana e no distanciamento do tempo. \nLoew estabelece um diálogo entre o visível e o invisível\, a presença e a ausência\, criando uma síntese poética e sensorial que amplia a compreensão do tempo e da memória. \nA exposição é composta por pinturas\, em sua maioria em dois suportes principais: tela e madeira.  Trazendo a tradição pictórica com uma abordagem contemporânea\, onde a materialidade e a forma dialogam com o conceito de memória viva\, explorado por Loew. \n“O trabalho de Loew não é uma busca incessante por refrões. Nele\, conjura imagens que\, mais do que simplesmente representam\, convidam o espectador a refletir sobre o próprio ato de recordar. Em uma pintura quase translúcida em alguns momentos\, Loew tenta reproduzir a forma como imagem e memória são capturadas\, criando atmosferas de indeterminação que sugerem fotos antigas\, desvanecendo-se no tempo\, ou aves paradas\, que flutuam estáticas sem um destino claro. São pinturas que não se limitam ao plano da representação objetiva\, mas que oscilam de forma fluida entre o invisível e o visível\, entre a permanência e a transitoriedade\, como se a memória fosse feita de recortes\, pequenos prelúdios onde detalhes desvanecem à medida que são formados.“ (Arthur Palhano)
URL:https://artequeacontece.com.br/evento/ninho-de-gabriel-loew-na-artefasam-galeria/
LOCATION:ArteFASAM Galeria\, Rua Brigadeiro Galvão\, 990 - Barra Funda\, São Paulo\, SP\, Brazil
CATEGORIES:São Paulo
ATTACH;FMTTYPE=image/jpeg:https://artequeacontece.com.br/wp-content/uploads/2025/02/250203_arte_fasam_031-1.jpg
END:VEVENT
END:VCALENDAR