BEGIN:VCALENDAR
VERSION:2.0
PRODID:-//Arte Que Acontece - ECPv6.15.20//NONSGML v1.0//EN
CALSCALE:GREGORIAN
METHOD:PUBLISH
X-WR-CALNAME:Arte Que Acontece
X-ORIGINAL-URL:https://artequeacontece.com.br
X-WR-CALDESC:Eventos para Arte Que Acontece
REFRESH-INTERVAL;VALUE=DURATION:PT1H
X-Robots-Tag:noindex
X-PUBLISHED-TTL:PT1H
BEGIN:VTIMEZONE
TZID:America/Sao_Paulo
BEGIN:STANDARD
TZOFFSETFROM:-0300
TZOFFSETTO:-0300
TZNAME:-03
DTSTART:20230101T000000
END:STANDARD
END:VTIMEZONE
BEGIN:VEVENT
DTSTART;TZID=America/Sao_Paulo:20240904T100000
DTEND;TZID=America/Sao_Paulo:20241102T180000
DTSTAMP:20260425T080211
CREATED:20240903T190344Z
LAST-MODIFIED:20240903T190344Z
UID:50852-1725444000-1730570400@artequeacontece.com.br
SUMMARY:"New York City" de Arshile Gorky na Hauser & Wirth NY
DESCRIPTION:Arshile Gorky\, Untitled (Sunset in Central Park) (detalhe)\, 1931 © The Arshile Gorky Foundation / Artists Rights Society. Foto: Jerry L. Thompson\n\n\n\n\nNo outono de 1924\, um jovem pintor e refugiado armênio chamado Vosdanig Manuk Adoian mudou-se para a cidade de Nova York e adotou um novo nome: Arshile Gorky. Com esse gesto\, o artista (c. 1904-1948) iniciou uma jornada de auto-reinvenção e inovação estética que paralelamente acompanharia a transformação de Nova York\, de uma cidade emergente para uma metrópole pujante e um epicentro cultural. Em um ano que viu Manhattan sediar a estreia de “Rhapsody in Blue” de George Gershwin\, a inauguração pública da Morgan Library\, a conclusão do arranha-céu dourado conhecido como American Radiator Building e\, em muitos aspectos\, o nascimento do Renascimento do Harlem\, Gorky estabeleceu-se na cidade e começou a trilhar um caminho rumo a tornar-se um dos artistas mais significativos da vanguarda americana. \nNeste setembro\, a Hauser & Wirth celebrará o centenário da chegada de Gorky a Nova York com uma apresentação especial em seu espaço na Wooster Street\, a poucos quarteirões do endereço original do artista no West Village. “Arshile Gorky. New York City” apresentará pinturas e trabalhos em papel\, muitos não vistos em mais de 40 anos\, que destacam o desenvolvimento do mestre de uma linguagem artística que\, em última análise\, seria tão singular – e consequente – quanto a cidade americana que foi seu lar.
URL:https://artequeacontece.com.br/evento/new-york-city-de-arshile-gorky-na-hauser-wirth-ny/
LOCATION:Hauser & Wirth Wooster Street\, 134 Wooster Street\, Nova York\, NY
CATEGORIES:Nova York
ATTACH;FMTTYPE=image/jpeg:https://artequeacontece.com.br/wp-content/uploads/2024/09/web-hires-jpg-72dpi-2409-direct-light_crop-1-1.jpg
END:VEVENT
END:VCALENDAR