BEGIN:VCALENDAR
VERSION:2.0
PRODID:-//Arte Que Acontece - ECPv6.15.20//NONSGML v1.0//EN
CALSCALE:GREGORIAN
METHOD:PUBLISH
X-WR-CALNAME:Arte Que Acontece
X-ORIGINAL-URL:https://artequeacontece.com.br
X-WR-CALDESC:Eventos para Arte Que Acontece
REFRESH-INTERVAL;VALUE=DURATION:PT1H
X-Robots-Tag:noindex
X-PUBLISHED-TTL:PT1H
BEGIN:VTIMEZONE
TZID:America/Sao_Paulo
BEGIN:STANDARD
TZOFFSETFROM:-0300
TZOFFSETTO:-0300
TZNAME:-03
DTSTART:20220101T000000
END:STANDARD
END:VTIMEZONE
BEGIN:VEVENT
DTSTART;TZID=America/Sao_Paulo:20230619T110000
DTEND;TZID=America/Sao_Paulo:20230708T190000
DTSTAMP:20260419T141704
CREATED:20230620T000959Z
LAST-MODIFIED:20230623T142423Z
UID:41604-1687172400-1688842800@artequeacontece.com.br
SUMMARY:Neves Torres na Galeria Estação
DESCRIPTION:Nascido em Conselheiro Pena\, Minas Gerais\, em 1932\, Neves Torres dedicou grande parte de sua vida à arte e à representação da vida rural em suas obras. Durante sua trajetória\, Neves trabalhou em diversas áreas\, como mecânico\, motorista\, tratorista e serralheiro. Foi somente após se aposentar que ele encontrou na pintura uma forma de expressão e distração\, retratando em suas telas as paisagens montanhosas\, árvores\, animais e trabalhadores rurais que faziam parte de seu cotidiano. O artista participou da Bienal Naif de Piracicaba\, tendo sido selecionado e premiado em diferentes edições. Em 2012\, a Galeria Estação realizou uma exposição individual de suas obras\, intitulada Neves Torres Pintura. Sua última exposição\, intitulada Entre a Estrela e a Serpente\, ocorreu em 2022 na Galeria Leme\, em São Paulo. Além disso\, o legado artístico de Neves também está presente no acervo da Fondation Cartier pour l’Art Contemporain em Paris\, França. A exposição em homenagem a Neves Torres acontece no 2º andar da Galeria Estação.
URL:https://artequeacontece.com.br/evento/neves-torres-na-galeria-estacao/
LOCATION:Galeria Estação\, 625 R. Ferreira de Araújo Pinheiros\, São Paulo\, São Paulo\, Brasil
CATEGORIES:São Paulo
ATTACH;FMTTYPE=image/jpeg:https://artequeacontece.com.br/wp-content/uploads/2023/06/355230180_603939295051753_8321410177950514016_n-1-1.jpg
END:VEVENT
END:VCALENDAR