BEGIN:VCALENDAR
VERSION:2.0
PRODID:-//Arte Que Acontece - ECPv6.15.20//NONSGML v1.0//EN
CALSCALE:GREGORIAN
METHOD:PUBLISH
X-WR-CALNAME:Arte Que Acontece
X-ORIGINAL-URL:https://artequeacontece.com.br
X-WR-CALDESC:Eventos para Arte Que Acontece
REFRESH-INTERVAL;VALUE=DURATION:PT1H
X-Robots-Tag:noindex
X-PUBLISHED-TTL:PT1H
BEGIN:VTIMEZONE
TZID:America/Sao_Paulo
BEGIN:STANDARD
TZOFFSETFROM:-0300
TZOFFSETTO:-0300
TZNAME:-03
DTSTART:20240101T000000
END:STANDARD
END:VTIMEZONE
BEGIN:VEVENT
DTSTART;TZID=America/Sao_Paulo:20250129T100000
DTEND;TZID=America/Sao_Paulo:20250306T190000
DTSTAMP:20260422T112310
CREATED:20250129T180803Z
LAST-MODIFIED:20250129T180803Z
UID:60264-1738144800-1741287600@artequeacontece.com.br
SUMMARY:"Natureza da realidade" de Tatiane Freitas na Luis Maluf Galeria
DESCRIPTION:Tatiane Freitas\, “A natureza insiste em se ocultar 1”\, 2024. Crédito: Tatiana Mito\n\n\n\n\nAbre em 29 de janeiro a mostra “Natureza da realidade”\, de Tatiane Freitas na Luis Maluf Galeria de Arte\, unidade Jardins. A mostra\, que traz séries inéditas\, tem curadoria de Flavia Corpas e pontua um momento de transição da artista\, na qual explora o movimento não apenas como transformação\, mas como desassossego que atravessa sua prática. Com dezenas de obras\, a mostra segue em cartaz\, gratuitamente\, até 06 de março. \nAbandonando o que lhe é familiar\, Tatiane incorpora materiais inéditos\, como o carvão\, a madeira\, e outros\, ampliando os limites de sua pesquisa. Seus trabalhos\, nunca encerrados\, reverberam como convites à reflexão\, abrindo caminhos para novos diálogos\, como conta a curadora: “Tudo é movimento. Nós\, sobretudo. Essa é a premissa que permeia as novas séries de Tatiane Freitas\, exibidas pela primeira vez na exposição ‘Natureza da realidade’. Em suas obras\, o movimento não se resume à ideia de transformação ou progresso\, ele abraça o desassossego contínuo que atravessa a artista e se reflete em sua prática.” \nA eventualidade e o diálogo com a natureza se fazem presentes em sua produção\, trazendo diferentes estados da madeira em paralelo a estados de ser e colocam a artista como espectadora\, e não apenas criadora\, dos movimentos naturais de tais matérias-primas. Essa relação estabelece uma conexão entre os fragmentos do cotidiano e a impermanência do olhar\, numa prática que desafia a rigidez das formas e abraça a mudança como essência. Desse modo\, segundo Flavia\, o “desdobramento de trabalhos e inquietações anteriores\, possuem a mesma origem dos trabalhos apresentados em ‘Natureza da realidade’: o acaso. \nDando continuidade à sua pesquisa\, centrada na construção de objetos a partir da ruína de tantos outros\, referidos ao cotidiano e à casa\, novas interlocuções se abrem. Velhas portas de madeiras\, agora espelhadas em desenho\, forneceram de súbito\, numa contingência que capturou Tatiane\, as primeiras imagens exploratórias para estas novas séries.” \nInstalação de pequenos pedaços de papel vegetal\, formas abstratas em carvão que se transformam em esculturas\, imagens de mobiliário\, chão de tacos\, e outros\, atestam os diferentes estágios de uma mesma materialidade e fazem desta mostra\, única\, inédita e atemporal.
URL:https://artequeacontece.com.br/evento/natureza-da-realidade-de-tatiane-freitas-na-luis-maluf-galeria/
LOCATION:Galeria Luis Maluf (Jardins)\, Rua Peixoto Gomide\, 1887 - Jardins\, São Paulo\, SP
CATEGORIES:São Paulo
ATTACH;FMTTYPE=image/jpeg:https://artequeacontece.com.br/wp-content/uploads/2025/01/A-natureza-insiste-em-se-ocultar_1-1.jpg
END:VEVENT
END:VCALENDAR