BEGIN:VCALENDAR
VERSION:2.0
PRODID:-//Arte Que Acontece - ECPv6.15.20//NONSGML v1.0//EN
CALSCALE:GREGORIAN
METHOD:PUBLISH
X-WR-CALNAME:Arte Que Acontece
X-ORIGINAL-URL:https://artequeacontece.com.br
X-WR-CALDESC:Eventos para Arte Que Acontece
REFRESH-INTERVAL;VALUE=DURATION:PT1H
X-Robots-Tag:noindex
X-PUBLISHED-TTL:PT1H
BEGIN:VTIMEZONE
TZID:America/Sao_Paulo
BEGIN:STANDARD
TZOFFSETFROM:-0300
TZOFFSETTO:-0300
TZNAME:-03
DTSTART:20220101T000000
END:STANDARD
END:VTIMEZONE
BEGIN:VEVENT
DTSTART;TZID=America/Sao_Paulo:20231125T110000
DTEND;TZID=America/Sao_Paulo:20240127T190000
DTSTAMP:20260423T060031
CREATED:20231124T223746Z
LAST-MODIFIED:20231124T223749Z
UID:44996-1700910000-1706382000@artequeacontece.com.br
SUMMARY:"Nascituras" de Rosana Paulino na Mendes Wood DM
DESCRIPTION:A exposição\, curada por Igor Simões\, enfatiza a obra da artista proeminente Rosana Paulino\, cuja carreira abrange 30 anos de dedicação às artes visuais\, incluindo participações em inúmeras exposições cruciais de arte contemporânea\, como nas duas últimas edições das bienais em Veneza e São Paulo. O foco central da mostra recai sobre a série Nascituras\, que representa um conjunto de nascimentos\, ambientes de criação e dádivas de vida\, destacando essas entidades-mulheres\, provenientes de épocas e naturezas diversas. Desde aquelas que emergem de bromélias encontradas no Parque Jaraguá até figuras monumentais\, como as Gêmeas da série Jatobás.
URL:https://artequeacontece.com.br/evento/nascituras-de-rosana-paulino-na-mendes-wood-dm/
LOCATION:Mendes Wood DM\, R. Barra Funda\, 216 – Barra Funda\, São Paulo\, São Paulo
CATEGORIES:São Paulo
ATTACH;FMTTYPE=image/jpeg:https://artequeacontece.com.br/wp-content/uploads/2023/11/rosana-paulino-1-1.jpg
END:VEVENT
END:VCALENDAR