BEGIN:VCALENDAR
VERSION:2.0
PRODID:-//Arte Que Acontece - ECPv6.15.20//NONSGML v1.0//EN
CALSCALE:GREGORIAN
METHOD:PUBLISH
X-WR-CALNAME:Arte Que Acontece
X-ORIGINAL-URL:https://artequeacontece.com.br
X-WR-CALDESC:Eventos para Arte Que Acontece
REFRESH-INTERVAL;VALUE=DURATION:PT1H
X-Robots-Tag:noindex
X-PUBLISHED-TTL:PT1H
BEGIN:VTIMEZONE
TZID:America/Sao_Paulo
BEGIN:STANDARD
TZOFFSETFROM:-0300
TZOFFSETTO:-0300
TZNAME:-03
DTSTART:20240101T000000
END:STANDARD
END:VTIMEZONE
BEGIN:VEVENT
DTSTART;TZID=America/Sao_Paulo:20251213T113000
DTEND;TZID=America/Sao_Paulo:20260228T190000
DTSTAMP:20260419T104350
CREATED:20251211T151255Z
LAST-MODIFIED:20251211T154011Z
UID:66824-1765625400-1772305200@artequeacontece.com.br
SUMMARY:“Napoli Explosion” no Polo Cultural ItaliaNoRio – Casa d’Italia
DESCRIPTION:Mario Amura\, “Napoli Explosion”. Divulgação.\nA mostra apresenta 20 obras fotográficas de formato médio\, além de um vídeo-documentário de 18 minutos\, retratando um dos rituais coletivos mais emblemáticos e belos do Mediterrâneo: a noite de Réveillon em Nápoles. É quando o povo napolitano transforma\, por algumas horas\, o temor ancestral do vulcão Vesúvio em uma festa de luz feita de centenas de milhares de fogos de artifício – tradição também cultuada na cidade do Rio de Janeiro. \nAs obras não descrevem: evocam nuvens\, criaturas e constelações que emergem da escuridão em uma explosão de formas e cores. A exposição no Rio celebra não apenas Nápoles\, mas o diálogo entre duas cidades irmãs\, unidas pela mesma linguagem de luz e festa. \n 
URL:https://artequeacontece.com.br/evento/napoli-explosion-no-polo-cultural-italianorio-casa-ditalia/
LOCATION:Museu de Arte do Rio\, 5 Praça Mauá Centro\, Rio de Janeiro\, Rio de Janeiro\, Brasil
CATEGORIES:Rio de Janeiro
ATTACH;FMTTYPE=image/jpeg:https://artequeacontece.com.br/wp-content/uploads/2025/12/Napoli-Explosion_napex_21191_Mario-Amura-1000x600-1.jpg
END:VEVENT
END:VCALENDAR