BEGIN:VCALENDAR
VERSION:2.0
PRODID:-//Arte Que Acontece - ECPv6.15.20//NONSGML v1.0//EN
CALSCALE:GREGORIAN
METHOD:PUBLISH
X-WR-CALNAME:Arte Que Acontece
X-ORIGINAL-URL:https://artequeacontece.com.br
X-WR-CALDESC:Eventos para Arte Que Acontece
REFRESH-INTERVAL;VALUE=DURATION:PT1H
X-Robots-Tag:noindex
X-PUBLISHED-TTL:PT1H
BEGIN:VTIMEZONE
TZID:America/Sao_Paulo
BEGIN:STANDARD
TZOFFSETFROM:-0300
TZOFFSETTO:-0300
TZNAME:-03
DTSTART:20230101T000000
END:STANDARD
END:VTIMEZONE
BEGIN:VEVENT
DTSTART;TZID=America/Sao_Paulo:20240914T120000
DTEND;TZID=America/Sao_Paulo:20250126T193000
DTSTAMP:20260422T071403
CREATED:20241003T174942Z
LAST-MODIFIED:20241003T174942Z
UID:57819-1726315200-1737919800@artequeacontece.com.br
SUMMARY:“MUNCH Il grido interiore” no Palazzo Reale
DESCRIPTION:Edvard Munch\, The Girls on the Bridge\, 1927\n\n\n\n\nPor ocasião do 80º aniversário de sua morte\, o Palazzo Reale e Arthemisia\, em colaboração com o Museu MUNCH\, apresentam um prestigioso evento cultural: uma grande exposição monográfica dedicada a um dos artistas mais amados e populares do século passado\, Edvard Munch. \nAo longo de sua carreira artística\, Edvard Munch explorou questões de significado existencial perene e desafiou as expressões da arte. Nesta ampla exposição\, a arte de Munch será explorada desde 1880 até sua morte em 1944. \nA mostra inclui 100 obras\, entre pinturas\, desenhos e gravuras\, todas provenientes do Museu MUNCH.
URL:https://artequeacontece.com.br/evento/munch-il-grido-interiore-no-palazzo-reale/
LOCATION:Palazzo Reale\, Piazza del Duomo\, 12\, Milão\, Itália
CATEGORIES:Milão
ATTACH;FMTTYPE=image/jpeg:https://artequeacontece.com.br/wp-content/uploads/2024/10/Edvard-Munch-The-Girls-on-the-Bridge-1927.jpg
END:VEVENT
END:VCALENDAR