BEGIN:VCALENDAR
VERSION:2.0
PRODID:-//Arte Que Acontece - ECPv6.15.20//NONSGML v1.0//EN
CALSCALE:GREGORIAN
METHOD:PUBLISH
X-WR-CALNAME:Arte Que Acontece
X-ORIGINAL-URL:https://artequeacontece.com.br
X-WR-CALDESC:Eventos para Arte Que Acontece
REFRESH-INTERVAL;VALUE=DURATION:PT1H
X-Robots-Tag:noindex
X-PUBLISHED-TTL:PT1H
BEGIN:VTIMEZONE
TZID:America/Sao_Paulo
BEGIN:STANDARD
TZOFFSETFROM:-0300
TZOFFSETTO:-0300
TZNAME:-03
DTSTART:20230101T000000
END:STANDARD
END:VTIMEZONE
BEGIN:VEVENT
DTSTART;TZID=America/Sao_Paulo:20240222T110000
DTEND;TZID=America/Sao_Paulo:20240316T190000
DTSTAMP:20260422T093207
CREATED:20240222T154834Z
LAST-MODIFIED:20240222T155549Z
UID:46651-1708599600-1710615600@artequeacontece.com.br
SUMMARY:"Mulheres por Mulheres" na Galeria Estação
DESCRIPTION:Mirian Inêz da Silva Cerqueira\, Brincadeira de Roda\, 1980. Foto João Liberato\n\n\n\nNeste ano\, quando duas décadas de intensa atuação no mercado de arte\, a paulistana Galeria Estação dá início à programação 2024 de exposições com a abertura\, em 22 de fevereiro\, da coletiva “Mulheres por Mulheres”. Idealizada pela colecionadora e galerista Vilma Eid\, a mostra\, de acordo com ela\, “é uma homenagem a mulheres artistas com quem venho trabalhando\, divulgando e que fazem parte da nossa história e pelas quais tenho grande admiração”. \n\n\n\nEm seu olhar curatorial\, Vilma selecionou 47 obras – entre telas e esculturas – de oito mulheres: a gaúcha Conceição dos Bugres (1914-1984)\, a pernambucanaElza de Oliveira Sousa (1928-2006)\, as mineirasIzabel Mendes da Cunha (1924-2014)Maria Auxiliadora Silva (1935-1974) e Noemisa Batista dos Santos (única artista viva da coletiva)\,a baiana Madalena dos Santos Reinbold(1919-1977)\, a goiana Mirian Inêz da Silva Cerqueira (1938-1996) e a paulista Zica Bérgami\, (1913-2011). Além dos trabalhos dessas artistas\, telas da pintora Yara Dewachter que retratam as homenageadas também irão compor a mostra em um diálogo visual enriquecedor com o legado delas. \n\n\n\nDe acordo com Vilma\, a vida dessas mulheres foi pautada por muita criatividade e histórias\, a maioria comoventes. De sua relação com algumas delas\, a galerista conta: “Conheci pessoalmente dona Izabel\, Noemisa e Zica. As duas primeiras em uma viagem que fiz em fevereiro de 2010 ao Vale do Jequitinhonha. Com ambas vivi momentos de muita emoção e contato com uma realidade muito rica\, com diálogos surpreendentes e muito pessoais”. Sobre Zica\, cujo nome original é Maria Elisa Campiotti Bérgami\, ela lembra ter recebido sua visita pouco tempo depois de abrir a Estação.  “Foi um encontro delicioso. Ela já estava na faixa dos 90 anos e muito bem-disposta. Além de desenhista\, foi compositora\, tendo criado a célebre canção Lampião de Gás. Já em relação a Conceição dos Bugres\, Izabel\, Maria Auxiliadora e Mirian\, fiz exposições individuais quando ainda não eram conhecidas do grande público”\, pontua. \n\n\n\nPara escrever sobre esta coletiva\, Vilma convidou três mulheres: Galciani Neves\, professora de Artes Visuais na Universidade Federal do Ceará e na Fundação Armando Álvares Penteado\, em São Paulo; Lilia Schwartz\, historiadora\, antropóloga e professora titular da Faculdade de Filosofia\, Letras e Ciências Humanas da Universidade de São Paulo; e Lorraine Mendes\, artista\, pesquisadora e atualmente curadora da Pinacoteca do Estado São Paulo. “Além dessas três estudiosas também convidei a artista plástica Yara Dewachter\, cuja pesquisa e obra falam de artistas mulheres. Em uma de suas exposições adquiri os retratos de Izabel e Zica. Foi então que\, ao pensar em Mulheres por Mulheres\, a convidei para retratar nossas oito artistas”\, explica a galerista.
URL:https://artequeacontece.com.br/evento/mulheres-por-mulheres-na-galeria-estacao/
LOCATION:Galeria Estação\, 625 R. Ferreira de Araújo Pinheiros\, São Paulo\, São Paulo\, Brasil
CATEGORIES:São Paulo
ATTACH;FMTTYPE=image/jpeg:https://artequeacontece.com.br/wp-content/uploads/2024/02/Mirian-Inez-da-Silva-Cerqueira-Brincadeira-de-Roda-1980-Oleo-sobre-eucatex-Foto-Joao-Liberato.jpg
END:VEVENT
END:VCALENDAR