BEGIN:VCALENDAR
VERSION:2.0
PRODID:-//Arte Que Acontece - ECPv6.15.20//NONSGML v1.0//EN
CALSCALE:GREGORIAN
METHOD:PUBLISH
X-WR-CALNAME:Arte Que Acontece
X-ORIGINAL-URL:https://artequeacontece.com.br
X-WR-CALDESC:Eventos para Arte Que Acontece
REFRESH-INTERVAL;VALUE=DURATION:PT1H
X-Robots-Tag:noindex
X-PUBLISHED-TTL:PT1H
BEGIN:VTIMEZONE
TZID:America/Sao_Paulo
BEGIN:STANDARD
TZOFFSETFROM:-0300
TZOFFSETTO:-0300
TZNAME:-03
DTSTART:20240101T000000
END:STANDARD
END:VTIMEZONE
BEGIN:VEVENT
DTSTART;TZID=America/Sao_Paulo:20250123T090000
DTEND;TZID=America/Sao_Paulo:20250315T180000
DTSTAMP:20260422T054746
CREATED:20250122T175425Z
LAST-MODIFIED:20250122T175425Z
UID:60609-1737622800-1742061600@artequeacontece.com.br
SUMMARY:MOS e Galeria Athena apresentam “Intermédio” de Gustavo Prado
DESCRIPTION:Gustavo Prado\, “Reviravolta”\, 2023 – Crédito: Erika Mayumi\n\n\n\n\nEm parceria inédita\, MOS e Galeria Athena inauguram\, no dia 23 janeiro\, a nova exposição “Intermédio” do artista carioca Gustavo Prado\, na cidade de São Paulo. Esta é a segunda exposição da galeria após a chegada da Athena à capital paulistana. \nA mostra acontece no espaço expositivo do edifício Melo Alves 645\, que se propõe a ser um centro de convergência cultural\, oferecendo ao público exposições de arte inéditas. Com a individual de Prado\, a Athena reúne um conjunto de obras inéditas\, marcando não apenas a primeira exposição individual do artista na capital paulista e sua representação pela galeria\, mas também seu retorno ao Brasil após catorze anos de residência em Nova Iorque. \n“Intermédio” apresenta obras escultóricas que dialogam não apenas com as estratégias de construção\, circulação e vigilância características de São Paulo e de grandes centros urbanos\, mas também com o legado da pintura e da escultura da arte construtivista – que teve nesta metrópole a sua capital brasileira. A exposição também conta com uma intervenção na fachada da galeria em que o artista busca romper a separação entre o espaço interno e a rua. \nContrastando um interesse pelo vocabulário abstrato com elementos de uma realidade local\, Prado justapõe dois exercícios presentes tanto em São Paulo quanto em sua obra: os esforços de imaginar espaços e formas ideais e a sua sobreposição às contradições dos espaços reais
URL:https://artequeacontece.com.br/evento/mos-e-galeria-athena-inauguram-novo-espaco-2mos-e-galeria-athena-apresentam-intermedio-de-gustavo-prado/
LOCATION:MOS\, R. Dr. Melo Alves\, 645 - Cerqueira César\, São Paulo\, São Paulo\, Brazil
CATEGORIES:São Paulo
ATTACH;FMTTYPE=image/jpeg:https://artequeacontece.com.br/wp-content/uploads/2025/01/54278004240_1d84621562_k-1.jpg
END:VEVENT
END:VCALENDAR