BEGIN:VCALENDAR
VERSION:2.0
PRODID:-//Arte Que Acontece - ECPv6.15.20//NONSGML v1.0//EN
CALSCALE:GREGORIAN
METHOD:PUBLISH
X-WR-CALNAME:Arte Que Acontece
X-ORIGINAL-URL:https://artequeacontece.com.br
X-WR-CALDESC:Eventos para Arte Que Acontece
REFRESH-INTERVAL;VALUE=DURATION:PT1H
X-Robots-Tag:noindex
X-PUBLISHED-TTL:PT1H
BEGIN:VTIMEZONE
TZID:America/Sao_Paulo
BEGIN:STANDARD
TZOFFSETFROM:-0300
TZOFFSETTO:-0300
TZNAME:-03
DTSTART:20220101T000000
END:STANDARD
END:VTIMEZONE
BEGIN:VEVENT
DTSTART;TZID=America/Sao_Paulo:20230517T110000
DTEND;TZID=America/Sao_Paulo:20230706T170000
DTSTAMP:20260422T053557
CREATED:20240606T154717Z
LAST-MODIFIED:20240606T154720Z
UID:49080-1684321200-1688662800@artequeacontece.com.br
SUMMARY:"morning to midnight" de Mason Owens na Steven Zevitas Gallery
DESCRIPTION:Mason Owens\, view from my childhood window (detalhe)\, 2022\n\n\n\nA Steven Zevitas Gallery tem o prazer de apresentar a exposição individual de estreia de Mason Owens\, “morning to midnight”. A exposição estará em exibição de 17 de maio a 6 de julho de 2024\, com uma recepção de abertura na sexta-feira\, 7 de junho\, das 17h30 às 20h. \n\n\n\n“morning to midnight” consiste em quinze pinturas em têmpera de ovo de escala íntima que retratam e celebram os momentos transitórios da vida. Uma quietude contemplativa emana de cada vinheta\, enquanto Owens permite que o calor do sol e o brilho da lua envolvam cada cena em uma luz unificadora. \n\n\n\nO trabalho de Owens é resolutamente contemporâneo\, mas conectado à rica história do intimismo encontrada nas obras de artistas como Matisse e Bonnard. O artista pinta momentos de sua própria vida e infância de uma maneira que parece familiar e reconfortante. Usando têmpera de ovo\, Owens consegue adicionar ou remover elementos de maneira rápida e lúdica enquanto tenta traduzir suas memórias e capturar a intimidade dessas experiências fugazes. Em “boy sleeping on the heating vent/remembering the old farmhouse”\, o artista é visto quando criança deitada em um patamar no topo das escadas; ele está debaixo da estante onde ele e seus irmãos costumavam adormecer enquanto folheavam um livro. A antiga casa de fazenda estava velha e desde então caiu em ruínas\, mas Owens cresceu sonhando em como poderia restaurá-la um dia. A luz da escada lança um feixe estreito pelo corredor e um relógio faz tique-taque no topo da estante… os pais de Owens estão na sala ao lado. \n\n\n\n“view from my childhood window” retrata uma paisagem banhada na luz azulada e suave que vem após o anoitecer. Owens se lembra de olhar para o quintal de sua janela no andar de cima e ficar fascinado por como o espaço familiar assumia um caráter novo e misterioso à noite. O céu é composto de milhares de marcas lineares organizadas\, incorporando elementos de desenho enquanto fala da energia de uma noite calma e escura. Em “breakfast with bo”\, pinceladas curtas e intencionais de amarelos opacos envolvem os tons mais escuros por baixo enquanto a luz entra pela janela. Essa memória recente não é tanto narrativa quanto é experiencial – nada é extravagante ou antinatural\, é simples e sinceramente poético. \n\n\n\nOwens usa pigmentos naturais pré-moídos em sua têmpera de ovo e prepara seus painéis de madeira com gesso de giz\, usando apenas materiais naturais\, talvez como uma referência ao seu trabalho profissional como agricultor\, jardineiro e paisagista por mais de sete anos. “morning to midnight” marca o retorno de Owens à produção artística e\, em sua totalidade\, é uma ode aos momentos subestimados que compõem todas as nossas vidas. Quer ele retrate uma manhã preguiçosa em um quarto banhado pelo sol\, ou esteja tirando um momento para se afastar de uma reunião de verão\, cada obra serve como um reconhecimento silencioso de que a beleza existe no cotidiano.
URL:https://artequeacontece.com.br/evento/morning-to-midnight-de-mason-owens-na-steven-zevitas-gallery/
LOCATION:Steven Zevitas Gallery\, 450 Harrison Ave\, 47\, Boston\, Massachusetts\, Estados Unidos
CATEGORIES:Boston
ATTACH;FMTTYPE=image/jpeg:https://artequeacontece.com.br/wp-content/uploads/2024/06/MASONOWENS_4childhoodwindowcopy_r.jpg
END:VEVENT
END:VCALENDAR