BEGIN:VCALENDAR
VERSION:2.0
PRODID:-//Arte Que Acontece - ECPv6.15.20//NONSGML v1.0//EN
CALSCALE:GREGORIAN
METHOD:PUBLISH
X-WR-CALNAME:Arte Que Acontece
X-ORIGINAL-URL:https://artequeacontece.com.br
X-WR-CALDESC:Eventos para Arte Que Acontece
REFRESH-INTERVAL;VALUE=DURATION:PT1H
X-Robots-Tag:noindex
X-PUBLISHED-TTL:PT1H
BEGIN:VTIMEZONE
TZID:America/Sao_Paulo
BEGIN:STANDARD
TZOFFSETFROM:-0300
TZOFFSETTO:-0300
TZNAME:-03
DTSTART:20240101T000000
END:STANDARD
END:VTIMEZONE
BEGIN:VEVENT
DTSTART;TZID=America/Sao_Paulo:20250322T100000
DTEND;TZID=America/Sao_Paulo:20250803T180000
DTSTAMP:20260419T103721
CREATED:20250321T151529Z
LAST-MODIFIED:20250321T151529Z
UID:61697-1742637600-1754244000@artequeacontece.com.br
SUMMARY:"Mônica Ventura: Daqui um lugar" no Octógono da Pinacoteca Luz
DESCRIPTION:Mônica Ventura – Divulgação Pinacoteca\n\n\n\n\nA Pinacoteca de São Paulo\, museu da Secretaria da Cultura\, Economia e Indústria Criativas do Estado de São Paulo\, apresenta Mônica Ventura: Daqui um lugar\, no Octógono do edifício Pinacoteca Luz. Com curadoria de Lorraine Mendes\, a instalação inédita da artista reconfigura o espaço central do edifício\, atribuindo novos significados a materiais como cabaças\, juta e cobre. \nMônica Ventura articula o repertório mítico e ancestral presente em uma arquitetura vernacular para confrontar algumas características do prédio: a verticalidade\, a circularidade e os tijolos mantidos aparentes desde a inauguração como Liceu de Artes e Ofícios em 1905 e assim perpetuados\, mesmo depois de a Pinacoteca ter se tornado museu e passar por sucessivas alterações até culminar na grande reforma do início dos anos 2000. \nNo espaço expositivo\, um conjunto de cabaças pendem sobre uma estrutura em formato circular. Cada cabaça\, ainda que represente uma unidade de sentido\, conflui em coletivo pendente do céu para seguir\, pelo reflexo de um espalho d’água\, em um avesso do chão de terra onde o público é convidado a pisar. \nA cobertura\, em formato circular\, instaura uma horizontalidade outra ao espaço\, criando uma atmosfera de intimidade\, proteção e abrigo\, evocando ainda a construção de um campo magnético. A experimentação entre o espaço criado e o público é potencializada através do cobre\, material com alta capacidade de condução de energia\, que reveste as estruturas que sustentam o céu criado pela artista. \nVentura propõe ao visitante um lugar em que as conexões humanas possam confluir\, receber e irradiar energia\, a partir da relação entre corpo e arquitetura. Essa exposição tem o patrocínio da Verde Asset Management\, na cota Bronze.
URL:https://artequeacontece.com.br/evento/monica-ventura-daqui-um-lugar-no-octogono-da-pinacoteca-luz/
LOCATION:Pinacoteca Luz\, Av. Tiradentes\, 273 – Luz\, São Paulo\, SP
CATEGORIES:São Paulo
ATTACH;FMTTYPE=image/jpeg:https://artequeacontece.com.br/wp-content/uploads/2025/03/LF_Pina_MonicaVentura_-1.jpg
END:VEVENT
END:VCALENDAR